BEGIN:VCALENDAR
VERSION:2.0
PRODID:-//Forgiven. The Evangelistic Ministry of Melonie Pichon - ECPv6.15.20//NONSGML v1.0//EN
CALSCALE:GREGORIAN
METHOD:PUBLISH
X-WR-CALNAME:Forgiven. The Evangelistic Ministry of Melonie Pichon
X-ORIGINAL-URL:https://www.forgivennow.com
X-WR-CALDESC:Events for Forgiven. The Evangelistic Ministry of Melonie Pichon
REFRESH-INTERVAL;VALUE=DURATION:PT1H
X-Robots-Tag:noindex
X-PUBLISHED-TTL:PT1H
BEGIN:VTIMEZONE
TZID:America/Chicago
BEGIN:DAYLIGHT
TZOFFSETFROM:-0600
TZOFFSETTO:-0500
TZNAME:CDT
DTSTART:20170312T080000
END:DAYLIGHT
BEGIN:STANDARD
TZOFFSETFROM:-0500
TZOFFSETTO:-0600
TZNAME:CST
DTSTART:20171105T070000
END:STANDARD
BEGIN:DAYLIGHT
TZOFFSETFROM:-0600
TZOFFSETTO:-0500
TZNAME:CDT
DTSTART:20180311T080000
END:DAYLIGHT
BEGIN:STANDARD
TZOFFSETFROM:-0500
TZOFFSETTO:-0600
TZNAME:CST
DTSTART:20181104T070000
END:STANDARD
BEGIN:DAYLIGHT
TZOFFSETFROM:-0600
TZOFFSETTO:-0500
TZNAME:CDT
DTSTART:20190310T080000
END:DAYLIGHT
BEGIN:STANDARD
TZOFFSETFROM:-0500
TZOFFSETTO:-0600
TZNAME:CST
DTSTART:20191103T070000
END:STANDARD
BEGIN:DAYLIGHT
TZOFFSETFROM:-0600
TZOFFSETTO:-0500
TZNAME:CDT
DTSTART:20200308T080000
END:DAYLIGHT
BEGIN:STANDARD
TZOFFSETFROM:-0500
TZOFFSETTO:-0600
TZNAME:CST
DTSTART:20201101T070000
END:STANDARD
BEGIN:DAYLIGHT
TZOFFSETFROM:-0600
TZOFFSETTO:-0500
TZNAME:CDT
DTSTART:20210314T080000
END:DAYLIGHT
BEGIN:STANDARD
TZOFFSETFROM:-0500
TZOFFSETTO:-0600
TZNAME:CST
DTSTART:20211107T070000
END:STANDARD
BEGIN:DAYLIGHT
TZOFFSETFROM:-0600
TZOFFSETTO:-0500
TZNAME:CDT
DTSTART:20220313T080000
END:DAYLIGHT
BEGIN:STANDARD
TZOFFSETFROM:-0500
TZOFFSETTO:-0600
TZNAME:CST
DTSTART:20221106T070000
END:STANDARD
BEGIN:DAYLIGHT
TZOFFSETFROM:-0600
TZOFFSETTO:-0500
TZNAME:CDT
DTSTART:20230312T080000
END:DAYLIGHT
BEGIN:STANDARD
TZOFFSETFROM:-0500
TZOFFSETTO:-0600
TZNAME:CST
DTSTART:20231105T070000
END:STANDARD
BEGIN:DAYLIGHT
TZOFFSETFROM:-0600
TZOFFSETTO:-0500
TZNAME:CDT
DTSTART:20240310T080000
END:DAYLIGHT
BEGIN:STANDARD
TZOFFSETFROM:-0500
TZOFFSETTO:-0600
TZNAME:CST
DTSTART:20241103T070000
END:STANDARD
BEGIN:DAYLIGHT
TZOFFSETFROM:-0600
TZOFFSETTO:-0500
TZNAME:CDT
DTSTART:20250309T080000
END:DAYLIGHT
BEGIN:STANDARD
TZOFFSETFROM:-0500
TZOFFSETTO:-0600
TZNAME:CST
DTSTART:20251102T070000
END:STANDARD
BEGIN:DAYLIGHT
TZOFFSETFROM:-0600
TZOFFSETTO:-0500
TZNAME:CDT
DTSTART:20260308T080000
END:DAYLIGHT
BEGIN:STANDARD
TZOFFSETFROM:-0500
TZOFFSETTO:-0600
TZNAME:CST
DTSTART:20261101T070000
END:STANDARD
END:VTIMEZONE
BEGIN:VEVENT
DTSTART;TZID=America/Chicago:20250921T110000
DTEND;TZID=America/Chicago:20250921T170000
DTSTAMP:20260423T152758
CREATED:20250814T171937Z
LAST-MODIFIED:20250814T201109Z
UID:2298-1758452400-1758474000@www.forgivennow.com
SUMMARY:Church Anniversary
DESCRIPTION:21 Sep \nTrue Vine FGBC\nShreveport\, LA \n11am
URL:https://www.forgivennow.com/event/gathering-4/
LOCATION:True Vine BC\, 2008 Marigny St\, New Orleans\, LA\, United States
CATEGORIES:Celebration
END:VEVENT
BEGIN:VEVENT
DTSTART;TZID=America/Chicago:20250817T110000
DTEND;TZID=America/Chicago:20250817T170000
DTSTAMP:20260423T152758
CREATED:20250814T171642Z
LAST-MODIFIED:20250814T201023Z
UID:2291-1755428400-1755450000@www.forgivennow.com
SUMMARY:Family and Friends Day
DESCRIPTION:17 Aug.\nFriendship MBC\nDallas\,TX\n11am
URL:https://www.forgivennow.com/event/gathering/
LOCATION:Friendship Missionary Baptist Church\, 203 Graham St\, Waxahachie\, TX\, United States
CATEGORIES:Celebration
END:VEVENT
BEGIN:VEVENT
DTSTART;TZID=America/Chicago:20230115T090000
DTEND;TZID=America/Chicago:20230115T110000
DTSTAMP:20260423T152758
CREATED:20230112T020640Z
LAST-MODIFIED:20230112T020640Z
UID:2135-1673773200-1673780400@www.forgivennow.com
SUMMARY:Pastoral Anniversary
DESCRIPTION:Chosen Generation Ministry\nPastoral Anniversary\n37092 Miller Rd\nPrairieville\, LA   \n3 pm
URL:https://www.forgivennow.com/event/pastoral-anniversary/
LOCATION:Chosen Generation Ministry\, 37092 Miller Rd\, Prairieville\, LA\, United States
CATEGORIES:Celebration
END:VEVENT
BEGIN:VEVENT
DTSTART;TZID=America/Chicago:20220626T100000
DTEND;TZID=America/Chicago:20220626T130000
DTSTAMP:20260423T152758
CREATED:20220304T031520Z
LAST-MODIFIED:20220304T031520Z
UID:2055-1656237600-1656248400@www.forgivennow.com
SUMMARY:Family and Friends Day
DESCRIPTION:June 26 \nHouse of Grace Ministries\nFamily & Friends Day\n8550 Florida Blvd\nBaton Rouge\, LA  \n3 pm
URL:https://www.forgivennow.com/event/family-and-friends-day-2/
LOCATION:House of Grace Ministries\, 8550 Florida Blvd\, Baton Rouge\, LA\, United States
CATEGORIES:Celebration
END:VEVENT
BEGIN:VEVENT
DTSTART;TZID=America/Chicago:20220415T070000
DTEND;TZID=America/Chicago:20220415T120000
DTSTAMP:20260423T152758
CREATED:20220304T030109Z
LAST-MODIFIED:20220304T030109Z
UID:2048-1650006000-1650024000@www.forgivennow.com
SUMMARY:Good Friday Celebration
DESCRIPTION:April 15 \nWatson Memorial Teaching Ministry\nGood Friday Celebration\n4400 St Charles Ave\nNew Orleans\, LA \nNoon
URL:https://www.forgivennow.com/event/good-friday-celebration/
LOCATION:watson memorial teaching ministry\, 4422 St charles Ave\, New Orleans\, LA\, United States
CATEGORIES:Celebration
END:VEVENT
BEGIN:VEVENT
DTSTART;TZID=America/Chicago:20210919T090000
DTEND;TZID=America/Chicago:20210919T120000
DTSTAMP:20260423T152758
CREATED:20210430T223850Z
LAST-MODIFIED:20210430T223850Z
UID:1968-1632042000-1632052800@www.forgivennow.com
SUMMARY:Pastor & First Lady Anniversary
DESCRIPTION:SEPTEMBER 19\nEbenezer BC\nPastor & First Lady Anniversary\n3359 Jackson Street\nDarrow\, LA  70725   \n2 pm
URL:https://www.forgivennow.com/event/pastor-first-lady-anniversary/
LOCATION:Ebenezer Baptist Church\, 3359 Jackson Street\, Darrow\, LA\, 70725\, United States
CATEGORIES:Celebration
END:VEVENT
BEGIN:VEVENT
DTSTART;TZID=America/Chicago:20210517T140000
DTEND;TZID=America/Chicago:20210517T160000
DTSTAMP:20260423T152758
CREATED:20210430T223712Z
LAST-MODIFIED:20210430T223712Z
UID:1965-1621260000-1621267200@www.forgivennow.com
SUMMARY:Church Anniversary
DESCRIPTION:May 17 \nChoice Inter. Family Outreach Worship Center\nChurch Anniversary\n516 E. Airline Highway\nLaPlace\, LA  70068    \n7 pm
URL:https://www.forgivennow.com/event/church-anniversary-4/
LOCATION:Choice International Family Outreach Worship Center\, 516 E. Airline Hwy\, LaPlace\, LA\, 70068\, United States
CATEGORIES:Celebration
END:VEVENT
BEGIN:VEVENT
DTSTART;TZID=America/Chicago:20190930T040000
DTEND;TZID=America/Chicago:20190930T120000
DTSTAMP:20260423T152758
CREATED:20190326T011321Z
LAST-MODIFIED:20190326T011321Z
UID:1779-1569816000-1569844800@www.forgivennow.com
SUMMARY:Family and Friends Day
DESCRIPTION:Family and Friends Day\nHopeful Triumph BC\n38584 Highway 22\nDarrow\, LA\n9 am
URL:https://www.forgivennow.com/event/family-and-friends-day/
LOCATION:Hopeful Triumph BC\, 38584 Highway 22\, Darrow\, LA\, United States
CATEGORIES:Celebration
END:VEVENT
BEGIN:VEVENT
DTSTART;TZID=America/Chicago:20190915T063000
DTEND;TZID=America/Chicago:20190915T080000
DTSTAMP:20260423T152758
CREATED:20190110T032132Z
LAST-MODIFIED:20190110T032132Z
UID:1672-1568529000-1568534400@www.forgivennow.com
SUMMARY:Women Day
DESCRIPTION:Holy Anointed House of Prayer\nWomen Day 20th Year Celebration\n1373 Senate St\nNOLA  \n11:30 am
URL:https://www.forgivennow.com/event/women-day-22/
LOCATION:Holy Annointed House of Prayer\, 1373 Senate St\, New Orleans\, LA\, United States
CATEGORIES:Celebration,Women Day
END:VEVENT
BEGIN:VEVENT
DTSTART;TZID=America/Chicago:20190531T140000
DTEND;TZID=America/Chicago:20190531T160000
DTSTAMP:20260423T152758
CREATED:20190326T010830Z
LAST-MODIFIED:20190326T010830Z
UID:1773-1559311200-1559318400@www.forgivennow.com
SUMMARY:FORGIVEN’S MINISTRY CELEBRATES MELONIE PICHON
DESCRIPTION:FORGIVEN’S MINISTRY CELEBRATES MELONIE PICHON.  \nWatson Memorial Teaching Ministry\n4400 St Charles Ave\, \n7 pm. \nPLEASE look for Celebrate Pichon under eventbrite.com for more information.
URL:https://www.forgivennow.com/event/forgivens-ministry-celebrates-melonie-pichon/
LOCATION:watson memorial teaching ministry\, 4422 St charles Ave\, New Orleans\, LA\, United States
CATEGORIES:Celebration
END:VEVENT
BEGIN:VEVENT
DTSTART;TZID=America/Chicago:20190428T040000
DTEND;TZID=America/Chicago:20190428T060000
DTSTAMP:20260423T152758
CREATED:20190326T010127Z
LAST-MODIFIED:20190326T010127Z
UID:1761-1556424000-1556431200@www.forgivennow.com
SUMMARY:Pastor Anniversary
DESCRIPTION:Pastor Anniversary.\nHopeful Triumph BC.\n38584 Highway 22\nDarrow\, LA \n9 am
URL:https://www.forgivennow.com/event/pastor-anniversary/
LOCATION:Hopeful Triumph BC\, 38584 Highway 22\, Darrow\, LA\, United States
CATEGORIES:Celebration
END:VEVENT
BEGIN:VEVENT
DTSTART;TZID=America/Chicago:20181028T100000
DTEND;TZID=America/Chicago:20181028T120000
DTSTAMP:20260423T152758
CREATED:20180918T020639Z
LAST-MODIFIED:20180918T020639Z
UID:1634-1540720800-1540728000@www.forgivennow.com
SUMMARY:Church Anniversary
DESCRIPTION:A Time to Harvest Ministries Church Anniversary\n1000 Caruso Blvd\, #201\nSlidell\, LA  \n3 pm
URL:https://www.forgivennow.com/event/church-anniversary-3/
LOCATION:A Time to Harvest Ministries Church\, 1000 Caruso Blvd\, Slidell\, LA\, United States
CATEGORIES:Celebration
END:VEVENT
END:VCALENDAR