BEGIN:VCALENDAR
VERSION:2.0
PRODID:-//Forgiven. The Evangelistic Ministry of Melonie Pichon - ECPv6.15.20//NONSGML v1.0//EN
CALSCALE:GREGORIAN
METHOD:PUBLISH
X-WR-CALNAME:Forgiven. The Evangelistic Ministry of Melonie Pichon
X-ORIGINAL-URL:https://www.forgivennow.com
X-WR-CALDESC:Events for Forgiven. The Evangelistic Ministry of Melonie Pichon
REFRESH-INTERVAL;VALUE=DURATION:PT1H
X-Robots-Tag:noindex
X-PUBLISHED-TTL:PT1H
BEGIN:VTIMEZONE
TZID:America/Chicago
BEGIN:DAYLIGHT
TZOFFSETFROM:-0600
TZOFFSETTO:-0500
TZNAME:CDT
DTSTART:20170312T080000
END:DAYLIGHT
BEGIN:STANDARD
TZOFFSETFROM:-0500
TZOFFSETTO:-0600
TZNAME:CST
DTSTART:20171105T070000
END:STANDARD
BEGIN:DAYLIGHT
TZOFFSETFROM:-0600
TZOFFSETTO:-0500
TZNAME:CDT
DTSTART:20180311T080000
END:DAYLIGHT
BEGIN:STANDARD
TZOFFSETFROM:-0500
TZOFFSETTO:-0600
TZNAME:CST
DTSTART:20181104T070000
END:STANDARD
BEGIN:DAYLIGHT
TZOFFSETFROM:-0600
TZOFFSETTO:-0500
TZNAME:CDT
DTSTART:20190310T080000
END:DAYLIGHT
BEGIN:STANDARD
TZOFFSETFROM:-0500
TZOFFSETTO:-0600
TZNAME:CST
DTSTART:20191103T070000
END:STANDARD
BEGIN:DAYLIGHT
TZOFFSETFROM:-0600
TZOFFSETTO:-0500
TZNAME:CDT
DTSTART:20200308T080000
END:DAYLIGHT
BEGIN:STANDARD
TZOFFSETFROM:-0500
TZOFFSETTO:-0600
TZNAME:CST
DTSTART:20201101T070000
END:STANDARD
END:VTIMEZONE
BEGIN:VEVENT
DTSTART;TZID=America/Chicago:20190428T040000
DTEND;TZID=America/Chicago:20190428T060000
DTSTAMP:20260423T164741
CREATED:20190326T010127Z
LAST-MODIFIED:20190326T010127Z
UID:1761-1556424000-1556431200@www.forgivennow.com
SUMMARY:Pastor Anniversary
DESCRIPTION:Pastor Anniversary.\nHopeful Triumph BC.\n38584 Highway 22\nDarrow\, LA \n9 am
URL:https://www.forgivennow.com/event/pastor-anniversary/
LOCATION:Hopeful Triumph BC\, 38584 Highway 22\, Darrow\, LA\, United States
CATEGORIES:Celebration
END:VEVENT
BEGIN:VEVENT
DTSTART;TZID=America/Chicago:20181028T100000
DTEND;TZID=America/Chicago:20181028T120000
DTSTAMP:20260423T164741
CREATED:20180918T020639Z
LAST-MODIFIED:20180918T020639Z
UID:1634-1540720800-1540728000@www.forgivennow.com
SUMMARY:Church Anniversary
DESCRIPTION:A Time to Harvest Ministries Church Anniversary\n1000 Caruso Blvd\, #201\nSlidell\, LA  \n3 pm
URL:https://www.forgivennow.com/event/church-anniversary-3/
LOCATION:A Time to Harvest Ministries Church\, 1000 Caruso Blvd\, Slidell\, LA\, United States
CATEGORIES:Celebration
END:VEVENT
END:VCALENDAR