BEGIN:VCALENDAR
VERSION:2.0
PRODID:-//Forgiven. The Evangelistic Ministry of Melonie Pichon - ECPv6.15.20//NONSGML v1.0//EN
CALSCALE:GREGORIAN
METHOD:PUBLISH
X-WR-CALNAME:Forgiven. The Evangelistic Ministry of Melonie Pichon
X-ORIGINAL-URL:https://www.forgivennow.com
X-WR-CALDESC:Events for Forgiven. The Evangelistic Ministry of Melonie Pichon
REFRESH-INTERVAL;VALUE=DURATION:PT1H
X-Robots-Tag:noindex
X-PUBLISHED-TTL:PT1H
BEGIN:VTIMEZONE
TZID:America/Chicago
BEGIN:DAYLIGHT
TZOFFSETFROM:-0600
TZOFFSETTO:-0500
TZNAME:CDT
DTSTART:20160313T080000
END:DAYLIGHT
BEGIN:STANDARD
TZOFFSETFROM:-0500
TZOFFSETTO:-0600
TZNAME:CST
DTSTART:20161106T070000
END:STANDARD
BEGIN:DAYLIGHT
TZOFFSETFROM:-0600
TZOFFSETTO:-0500
TZNAME:CDT
DTSTART:20170312T080000
END:DAYLIGHT
BEGIN:STANDARD
TZOFFSETFROM:-0500
TZOFFSETTO:-0600
TZNAME:CST
DTSTART:20171105T070000
END:STANDARD
BEGIN:DAYLIGHT
TZOFFSETFROM:-0600
TZOFFSETTO:-0500
TZNAME:CDT
DTSTART:20180311T080000
END:DAYLIGHT
BEGIN:STANDARD
TZOFFSETFROM:-0500
TZOFFSETTO:-0600
TZNAME:CST
DTSTART:20181104T070000
END:STANDARD
BEGIN:DAYLIGHT
TZOFFSETFROM:-0600
TZOFFSETTO:-0500
TZNAME:CDT
DTSTART:20190310T080000
END:DAYLIGHT
BEGIN:STANDARD
TZOFFSETFROM:-0500
TZOFFSETTO:-0600
TZNAME:CST
DTSTART:20191103T070000
END:STANDARD
BEGIN:DAYLIGHT
TZOFFSETFROM:-0600
TZOFFSETTO:-0500
TZNAME:CDT
DTSTART:20200308T080000
END:DAYLIGHT
BEGIN:STANDARD
TZOFFSETFROM:-0500
TZOFFSETTO:-0600
TZNAME:CST
DTSTART:20201101T070000
END:STANDARD
BEGIN:DAYLIGHT
TZOFFSETFROM:-0600
TZOFFSETTO:-0500
TZNAME:CDT
DTSTART:20210314T080000
END:DAYLIGHT
BEGIN:STANDARD
TZOFFSETFROM:-0500
TZOFFSETTO:-0600
TZNAME:CST
DTSTART:20211107T070000
END:STANDARD
BEGIN:DAYLIGHT
TZOFFSETFROM:-0600
TZOFFSETTO:-0500
TZNAME:CDT
DTSTART:20220313T080000
END:DAYLIGHT
BEGIN:STANDARD
TZOFFSETFROM:-0500
TZOFFSETTO:-0600
TZNAME:CST
DTSTART:20221106T070000
END:STANDARD
BEGIN:DAYLIGHT
TZOFFSETFROM:-0600
TZOFFSETTO:-0500
TZNAME:CDT
DTSTART:20230312T080000
END:DAYLIGHT
BEGIN:STANDARD
TZOFFSETFROM:-0500
TZOFFSETTO:-0600
TZNAME:CST
DTSTART:20231105T070000
END:STANDARD
END:VTIMEZONE
BEGIN:VEVENT
DTSTART;VALUE=DATE:20220305
DTEND;VALUE=DATE:20220307
DTSTAMP:20260423T095516
CREATED:20220304T025309Z
LAST-MODIFIED:20220304T025309Z
UID:2035-1646503200-1646589599@www.forgivennow.com
SUMMARY:Power to Exhale Women Conference
DESCRIPTION:March 6\nPower to Exhale Women Conference\nHyatt Regency Superdome\nNew Orleans\, LA \n9 am
URL:https://www.forgivennow.com/event/power-to-exhale-women-conference/
LOCATION:Hyatt Regency Superdome\, New Orleans\, LA\, United States
CATEGORIES:Conference
END:VEVENT
BEGIN:VEVENT
DTSTART;TZID=America/Chicago:20200815T030000
DTEND;TZID=America/Chicago:20200815T050000
DTSTAMP:20260423T095516
CREATED:20200219T230657Z
LAST-MODIFIED:20200219T230657Z
UID:1897-1597460400-1597467600@www.forgivennow.com
SUMMARY:Sister Keeper  Prayer Breakfast
DESCRIPTION:Sister Keeper  Prayer Breakfast\nheld at Mt Pilgrim BC\n9700 Scenic Highway\nBaton Rouge\, LA  \n8 am
URL:https://www.forgivennow.com/event/sister-keeper-prayer-breakfast/
LOCATION:Mount Pilgrim Baptist Church\, 9700 Scenic Highway\, Baton Rouge\, LA\, United States
CATEGORIES:Conference
END:VEVENT
BEGIN:VEVENT
DTSTART;VALUE=DATE:20200715
DTEND;VALUE=DATE:20200719
DTSTAMP:20260423T095516
CREATED:20200219T230504Z
LAST-MODIFIED:20200219T230504Z
UID:1894-1594839600-1595098799@www.forgivennow.com
SUMMARY:Woman Arise Conference
DESCRIPTION:Woman Arise Conference\nBeacon Light Baptist Cathedral\nregister at www.womanarisetc.com
URL:https://www.forgivennow.com/event/woman-arise-conference/
LOCATION:Beacon Light Baptist Cathedral
CATEGORIES:Conference
END:VEVENT
BEGIN:VEVENT
DTSTART;TZID=America/Chicago:20200617T140000
DTEND;TZID=America/Chicago:20200617T170000
DTSTAMP:20260423T095516
CREATED:20200219T230352Z
LAST-MODIFIED:20200219T230352Z
UID:1891-1592402400-1592413200@www.forgivennow.com
SUMMARY:Bridging the Gap International Fellowship Conference
DESCRIPTION:Bridging the Gap International Fellowship Conference\,\nHeld at Ramada by Wyndham\,\n2915 LA-14\nNew Iberia\, LA  \n7 pm
URL:https://www.forgivennow.com/event/bridging-the-gap-international-fellowship-conference/
LOCATION:Ramada\, 2915 LA-14\, New Iberia\, LA\, United States
CATEGORIES:Conference
END:VEVENT
BEGIN:VEVENT
DTSTART;TZID=America/Chicago:20200403T140000
DTEND;TZID=America/Chicago:20200403T160000
DTSTAMP:20260423T095516
CREATED:20200219T225912Z
LAST-MODIFIED:20200219T225912Z
UID:1883-1585922400-1585929600@www.forgivennow.com
SUMMARY:Women Conference
DESCRIPTION:Women Conference \nNew Vision Outreach\n810 W 10th Street\nDonaldsonville\, LA \n7 pm
URL:https://www.forgivennow.com/event/women-conference-33/
LOCATION:New Vision Outreach\, 810 W. 10th St\, Donaldsonville\, LA\, United States
CATEGORIES:Conference
END:VEVENT
BEGIN:VEVENT
DTSTART;TZID=America/Chicago:20191004T140000
DTEND;TZID=America/Chicago:20191004T160000
DTSTAMP:20260423T095516
CREATED:20190831T010418Z
LAST-MODIFIED:20190831T010418Z
UID:1802-1570197600-1570204800@www.forgivennow.com
SUMMARY:Women in White Deliverance Service
DESCRIPTION:Women in White Deliverance Service\nNew Generation Fellowship\n1000 Roosevelt Dr\nKenner LA  \n7pm
URL:https://www.forgivennow.com/event/women-in-white-deliverance-service/
LOCATION:new generation fellowship\, 1000 Roosevelt Blvd\, Kenner\, LA\, United States
CATEGORIES:Conference
END:VEVENT
BEGIN:VEVENT
DTSTART;TZID=America/Chicago:20190917T130000
DTEND;TZID=America/Chicago:20190917T150000
DTSTAMP:20260423T095516
CREATED:20190831T010310Z
LAST-MODIFIED:20190831T010310Z
UID:1799-1568725200-1568732400@www.forgivennow.com
SUMMARY:Leadership Conference
DESCRIPTION:Greater Mt Cavalry Church\n1600 Westwood Dr\nMarrero LA  \n6pm \nLeadership Conference
URL:https://www.forgivennow.com/event/leadership-conference/
LOCATION:Greater Mount Calvary Church\, 1600 Westwood Drive\, Marrero\, LA\, United States
CATEGORIES:Conference
END:VEVENT
BEGIN:VEVENT
DTSTART;TZID=America/Chicago:20190817T040000
DTEND;TZID=America/Chicago:20190817T070000
DTSTAMP:20260423T095516
CREATED:20190326T011205Z
LAST-MODIFIED:20190326T011205Z
UID:1777-1566014400-1566025200@www.forgivennow.com
SUMMARY:Women Conference
DESCRIPTION:Women Conference.\nNew Pilgrim BC\n4277 Old Weis Rd\nZachary\, LA.\n9 am
URL:https://www.forgivennow.com/event/women-conference-31/
LOCATION:new pilgrim baptist church\, 4277 Old Weis Rd\, Zachary\, LA\, United States
CATEGORIES:Conference
END:VEVENT
BEGIN:VEVENT
DTSTART;TZID=America/Chicago:20190622T060000
DTEND;TZID=America/Chicago:20190622T080000
DTSTAMP:20260423T095516
CREATED:20190326T011053Z
LAST-MODIFIED:20190326T011053Z
UID:1775-1561183200-1561190400@www.forgivennow.com
SUMMARY:Women Conference
DESCRIPTION:Women Conference. \nSt Paul BC\n10438 Boudreaux Rd\nGonzales\, LA.  \n11am
URL:https://www.forgivennow.com/event/women-conference-30/
LOCATION:st paul baptist church\, 10438 Boudreaux Rd\, Gonzales\, LA\, United States
CATEGORIES:Conference
END:VEVENT
BEGIN:VEVENT
DTSTART;TZID=America/Chicago:20190522T140000
DTEND;TZID=America/Chicago:20190522T160000
DTSTAMP:20260423T095516
CREATED:20190329T210433Z
LAST-MODIFIED:20190329T210433Z
UID:1784-1558533600-1558540800@www.forgivennow.com
SUMMARY:Women Conference
DESCRIPTION:Women Conference \nGreater Zionfield Family Worship Center\n636 Eleventh St\nWestwego\, LA \n7 pm
URL:https://www.forgivennow.com/event/women-conference-32/
LOCATION:LA
CATEGORIES:Conference
END:VEVENT
BEGIN:VEVENT
DTSTART;TZID=America/Chicago:20190522T140000
DTEND;TZID=America/Chicago:20190522T153000
DTSTAMP:20260423T095516
CREATED:20190326T010456Z
LAST-MODIFIED:20190326T010456Z
UID:1766-1558533600-1558539000@www.forgivennow.com
SUMMARY:Women Conference
DESCRIPTION:Soul-Be-It Ministries\nWomen Conference\nhosted at Holiday Inn\nCovington\,LA \n7pm
URL:https://www.forgivennow.com/event/women-conference-29/
LOCATION:Holiday Inn\, Covington\, LA\, United States
CATEGORIES:Conference
END:VEVENT
BEGIN:VEVENT
DTSTART;TZID=America/Chicago:20190503T140000
DTEND;TZID=America/Chicago:20190503T160000
DTSTAMP:20260423T095516
CREATED:20190204T232055Z
LAST-MODIFIED:20190204T232055Z
UID:1745-1556892000-1556899200@www.forgivennow.com
SUMMARY:Women Conference
DESCRIPTION:Women Conference \nNew Life Outreach\n401 S. Holly St\nHammond\, LA  \n7 pm
URL:https://www.forgivennow.com/event/women-conference-28/
LOCATION:New Life Outreach\, 401 S. Holly St.\, Hammond\, LA\, United States
CATEGORIES:Conference
END:VEVENT
BEGIN:VEVENT
DTSTART;TZID=America/Chicago:20190417T140000
DTEND;TZID=America/Chicago:20190417T160000
DTSTAMP:20260423T095516
CREATED:20190204T231844Z
LAST-MODIFIED:20190326T004247Z
UID:1742-1555509600-1555516800@www.forgivennow.com
SUMMARY:Women Conference
DESCRIPTION:Women Conference \nNew Vision Outreach\n810 W. Tenth St\nDonaldsonville\, LA  \n7 pm
URL:https://www.forgivennow.com/event/women-conference-27/
LOCATION:New Vision Outreach\, 810 W. 10th St\, Donaldsonville\, LA\, United States
CATEGORIES:Conference
END:VEVENT
BEGIN:VEVENT
DTSTART;TZID=America/Chicago:20190323T040000
DTEND;TZID=America/Chicago:20190323T070000
DTSTAMP:20260423T095516
CREATED:20190110T031722Z
LAST-MODIFIED:20190110T031722Z
UID:1664-1553313600-1553324400@www.forgivennow.com
SUMMARY:Conference
DESCRIPTION:Cypress Grove Ministers Wives and Widows Outreach Ministry\nConference\n901 31st Street\nKenner\, LA  \n9am – Noon  \nRegistration info First Lady Porter at 504-341-8536
URL:https://www.forgivennow.com/event/conference-3/
LOCATION:Cypress Grove Ministers\, 901 31st Street\, Kenner\, LA\, United States
CATEGORIES:Conference
END:VEVENT
BEGIN:VEVENT
DTSTART;TZID=America/Chicago:20181110T040000
DTEND;TZID=America/Chicago:20181110T110000
DTSTAMP:20260423T095516
CREATED:20180918T020921Z
LAST-MODIFIED:20180918T020921Z
UID:1640-1541822400-1541847600@www.forgivennow.com
SUMMARY:Divorce Recovery Seminar
DESCRIPTION:Divorce Recovery Seminar\nSolid Rock Church\n1817 Third St\nKenner\, LA  \n10 am
URL:https://www.forgivennow.com/event/divorce-recovery-seminar/
LOCATION:Solid rock Church\, 1817 Third St\, Kenner\, LA\, United States
CATEGORIES:Conference
END:VEVENT
BEGIN:VEVENT
DTSTART;TZID=America/Chicago:20181002T140000
DTEND;TZID=America/Chicago:20181002T160000
DTSTAMP:20260423T095516
CREATED:20171216T032140Z
LAST-MODIFIED:20171216T032140Z
UID:1489-1538488800-1538496000@www.forgivennow.com
SUMMARY:Family Conference
DESCRIPTION:House of the Lord FGBC \n2000 W. 4th Street\nHattiesburg\, MS    \n7 pm 
URL:https://www.forgivennow.com/event/family-conference/
LOCATION:house of the lord FGBC\, 2000 W. 4th Street\, Hattiesburg\, MS\, United States
CATEGORIES:Conference
END:VEVENT
BEGIN:VEVENT
DTSTART;TZID=America/Chicago:20180907T133000
DTEND;TZID=America/Chicago:20180907T160000
DTSTAMP:20260423T095516
CREATED:20180614T015837Z
LAST-MODIFIED:20180614T015837Z
UID:1617-1536327000-1536336000@www.forgivennow.com
SUMMARY:Women Conference
DESCRIPTION:New Generation Fellowship\n1000 Roosevelt Blvd\, Kenner\, LA  \nWomen Conference Lecturer   \n6:45 pm
URL:https://www.forgivennow.com/event/women-conference-25/
LOCATION:new generation fellowship\, 1000 Roosevelt Blvd\, Kenner\, LA\, United States
CATEGORIES:Conference
END:VEVENT
BEGIN:VEVENT
DTSTART;TZID=America/Chicago:20180805T053000
DTEND;TZID=America/Chicago:20180805T103000
DTSTAMP:20260423T095516
CREATED:20180614T015313Z
LAST-MODIFIED:20180614T015313Z
UID:1609-1533447000-1533465000@www.forgivennow.com
SUMMARY:Youth Conference
DESCRIPTION:St Paul BC  \n10438 Boudreaux Rd\, Gonzales\, LA  \nYouth Conf 10:30 am
URL:https://www.forgivennow.com/event/youth-conference/
LOCATION:st paul baptist church\, 10438 Boudreaux Rd\, Gonzales\, LA\, United States
CATEGORIES:Conference
END:VEVENT
BEGIN:VEVENT
DTSTART;TZID=America/Chicago:20180707T070000
DTEND;TZID=America/Chicago:20180707T100000
DTSTAMP:20260423T095516
CREATED:20180621T031648Z
LAST-MODIFIED:20180621T031648Z
UID:1623-1530946800-1530957600@www.forgivennow.com
SUMMARY:Conference
DESCRIPTION:Women on Fire Conference\nThe Garden Plaza Conference Center\nLafayette\, LA   \n12 Noon
URL:https://www.forgivennow.com/event/conference-2/
LOCATION:LA
CATEGORIES:Conference
END:VEVENT
BEGIN:VEVENT
DTSTART;TZID=America/Chicago:20180706T130000
DTEND;TZID=America/Chicago:20180706T150000
DTSTAMP:20260423T095516
CREATED:20180621T031548Z
LAST-MODIFIED:20180621T031548Z
UID:1621-1530882000-1530889200@www.forgivennow.com
SUMMARY:Conference
DESCRIPTION:Women on Fire Conference\nThe Garden Plaza Conference Center\nLafayette\, LA\n6pm
URL:https://www.forgivennow.com/event/conference/
LOCATION:LA
CATEGORIES:Conference
END:VEVENT
BEGIN:VEVENT
DTSTART;TZID=America/Chicago:20180615T060000
DTEND;TZID=America/Chicago:20180615T090000
DTSTAMP:20260423T095516
CREATED:20180208T221930Z
LAST-MODIFIED:20180208T221930Z
UID:1569-1529042400-1529053200@www.forgivennow.com
SUMMARY:Breaking the Silence Conference
DESCRIPTION:Breaking the Silence Conference\nSons & Daughters of Zion\n3714 Westbank Expressway\nHarvey\, LA\n11 am
URL:https://www.forgivennow.com/event/breaking-the-silence-conference/
LOCATION:Sons & Daughters of Zion\, 3714 Westbank Expressway\, Harvey\, LA\, United States
CATEGORIES:Conference
END:VEVENT
BEGIN:VEVENT
DTSTART;VALUE=DATE:20180509
DTEND;VALUE=DATE:20180512
DTSTAMP:20260423T095516
CREATED:20171216T031844Z
LAST-MODIFIED:20180208T221724Z
UID:1483-1525892400-1526065199@www.forgivennow.com
SUMMARY:Women Conference
DESCRIPTION:Life Cathedral Worship Center\n2103 S. Phillippe\nGonzales\, LA  \n7 pm nightly
URL:https://www.forgivennow.com/event/women-conference-23/
LOCATION:life cathedral worship center\, 2103 S. Phillippe\, Gonzales\, LA\, United States
CATEGORIES:Conference
END:VEVENT
BEGIN:VEVENT
DTSTART;TZID=America/Chicago:20180504T140000
DTEND;TZID=America/Chicago:20180504T160000
DTSTAMP:20260423T095516
CREATED:20180417T073141Z
LAST-MODIFIED:20180417T073141Z
UID:1579-1525442400-1525449600@www.forgivennow.com
SUMMARY:Women Conference
DESCRIPTION:Women Conference\nReaping the Harvest FG\n5123 Dauphine St\nNOLA 70117\n7 pm. \nRegistration $25.00
URL:https://www.forgivennow.com/event/women-conference-24/
LOCATION:LA
CATEGORIES:Conference,Women Day
END:VEVENT
BEGIN:VEVENT
DTSTART;TZID=America/Chicago:20180302T130000
DTEND;TZID=America/Chicago:20180303T150000
DTSTAMP:20260423T095516
CREATED:20180208T221124Z
LAST-MODIFIED:20180208T221124Z
UID:1559-1519995600-1520089200@www.forgivennow.com
SUMMARY:Fellowship in the Word
DESCRIPTION:United Fellowship Church\n12103 Highway 73\nGeismar\, LA\nFellowship in the Word\n7 pm nightly
URL:https://www.forgivennow.com/event/fellowship-in-the-word/
LOCATION:united fellowship church\, 12103 Highway 73\, Geismar\, LA\, United States
CATEGORIES:Conference
END:VEVENT
BEGIN:VEVENT
DTSTART;TZID=America/Chicago:20180120T050000
DTEND;TZID=America/Chicago:20180120T110000
DTSTAMP:20260423T095516
CREATED:20171216T031337Z
LAST-MODIFIED:20171216T031337Z
UID:1474-1516424400-1516446000@www.forgivennow.com
SUMMARY:Book Release
DESCRIPTION:Fellowship of Faith CC\n(Book Release)\n1806 Marvyn Parkway\nOpelika\, AL    \n11 am
URL:https://www.forgivennow.com/event/book-release/
LOCATION:Fellowship of Faith\, 1806 Marvyn Parkway\, Opelika\, AL\, United States
CATEGORIES:Conference
END:VEVENT
BEGIN:VEVENT
DTSTART;VALUE=DATE:20180111
DTEND;VALUE=DATE:20180115
DTSTAMP:20260423T095516
CREATED:20171216T031136Z
LAST-MODIFIED:20171216T031136Z
UID:1471-1515693600-1515952799@www.forgivennow.com
SUMMARY:New Alpha Worship Center
DESCRIPTION:New Alpha Worship Center\nHeld at Stars Complex\n2980 Edison Ave\, Ft Myers\, FL \n7 pm nightly
URL:https://www.forgivennow.com/event/new-alpha-worship-center/
LOCATION:Stars Complex\, 2980 Edison Ave\, Ft Myers\, Florida
CATEGORIES:Conference
END:VEVENT
BEGIN:VEVENT
DTSTART;TZID=America/Chicago:20171115T020000
DTEND;TZID=America/Chicago:20171115T110000
DTSTAMP:20260423T095516
CREATED:20170724T195033Z
LAST-MODIFIED:20170724T195033Z
UID:1445-1510711200-1510743600@www.forgivennow.com
SUMMARY:National Alliance of Black School Educators
DESCRIPTION:National Alliance of Black School Educators\n8am\nNew Orleans Convention Center
URL:https://www.forgivennow.com/event/national-alliance-of-black-school-educators/
LOCATION:new orleans convention center\, new orleans\, LA\, United States
CATEGORIES:Conference
END:VEVENT
BEGIN:VEVENT
DTSTART;TZID=America/Chicago:20171027T040000
DTEND;TZID=America/Chicago:20171027T070000
DTSTAMP:20260423T095516
CREATED:20170328T201450Z
LAST-MODIFIED:20170328T201450Z
UID:1410-1509076800-1509087600@www.forgivennow.com
SUMMARY:Women Conference
DESCRIPTION:Women Conference\nThe Purpose Center\nHost Site\nHoliday Inn\n2261 N. Causeway Blvd\nMetairie\, LA\n 9 am
URL:https://www.forgivennow.com/event/women-conference-21/
LOCATION:Holiday Inn\, 2261 N. Causeway Blvd\, Metairie\, LA\, United States
CATEGORIES:Conference,Women Day
END:VEVENT
BEGIN:VEVENT
DTSTART;TZID=America/Chicago:20171015T120000
DTEND;TZID=America/Chicago:20171015T140000
DTSTAMP:20260423T095516
CREATED:20170504T204843Z
LAST-MODIFIED:20170504T204844Z
UID:1425-1508068800-1508076000@www.forgivennow.com
SUMMARY:Women Conference
DESCRIPTION:Women Conference \nChoice International Ministries\n516 E. Airline Highway\nLaPlace\, LA \n5 pm
URL:https://www.forgivennow.com/event/women-conference-22/
LOCATION:LA
CATEGORIES:Conference
END:VEVENT
BEGIN:VEVENT
DTSTART;TZID=America/Chicago:20170428T140000
DTEND;TZID=America/Chicago:20170429T190000
DTSTAMP:20260423T095516
CREATED:20170328T195805Z
LAST-MODIFIED:20170328T195805Z
UID:1385-1493388000-1493492400@www.forgivennow.com
SUMMARY:Women Conference
DESCRIPTION:Women Conference\nTrinity Full Gospel Pentecostal Church\n4801 NE 19th Ave\nPortland\, OR \n7 pm nightly
URL:https://www.forgivennow.com/event/women-conference-20/
LOCATION:Trinity Full Gospel Pentecostal Church\, 4801 NE 19th Ave\, Portland\, OR\, United States
CATEGORIES:Conference,Women Day
END:VEVENT
END:VCALENDAR