BEGIN:VCALENDAR
VERSION:2.0
PRODID:-//Forgiven. The Evangelistic Ministry of Melonie Pichon - ECPv6.15.20//NONSGML v1.0//EN
CALSCALE:GREGORIAN
METHOD:PUBLISH
X-ORIGINAL-URL:https://www.forgivennow.com
X-WR-CALDESC:Events for Forgiven. The Evangelistic Ministry of Melonie Pichon
REFRESH-INTERVAL;VALUE=DURATION:PT1H
X-Robots-Tag:noindex
X-PUBLISHED-TTL:PT1H
BEGIN:VTIMEZONE
TZID:America/Chicago
BEGIN:DAYLIGHT
TZOFFSETFROM:-0600
TZOFFSETTO:-0500
TZNAME:CDT
DTSTART:20160313T080000
END:DAYLIGHT
BEGIN:STANDARD
TZOFFSETFROM:-0500
TZOFFSETTO:-0600
TZNAME:CST
DTSTART:20161106T070000
END:STANDARD
BEGIN:DAYLIGHT
TZOFFSETFROM:-0600
TZOFFSETTO:-0500
TZNAME:CDT
DTSTART:20170312T080000
END:DAYLIGHT
BEGIN:STANDARD
TZOFFSETFROM:-0500
TZOFFSETTO:-0600
TZNAME:CST
DTSTART:20171105T070000
END:STANDARD
BEGIN:DAYLIGHT
TZOFFSETFROM:-0600
TZOFFSETTO:-0500
TZNAME:CDT
DTSTART:20180311T080000
END:DAYLIGHT
BEGIN:STANDARD
TZOFFSETFROM:-0500
TZOFFSETTO:-0600
TZNAME:CST
DTSTART:20181104T070000
END:STANDARD
BEGIN:DAYLIGHT
TZOFFSETFROM:-0600
TZOFFSETTO:-0500
TZNAME:CDT
DTSTART:20190310T080000
END:DAYLIGHT
BEGIN:STANDARD
TZOFFSETFROM:-0500
TZOFFSETTO:-0600
TZNAME:CST
DTSTART:20191103T070000
END:STANDARD
BEGIN:DAYLIGHT
TZOFFSETFROM:-0600
TZOFFSETTO:-0500
TZNAME:CDT
DTSTART:20200308T080000
END:DAYLIGHT
BEGIN:STANDARD
TZOFFSETFROM:-0500
TZOFFSETTO:-0600
TZNAME:CST
DTSTART:20201101T070000
END:STANDARD
BEGIN:DAYLIGHT
TZOFFSETFROM:-0600
TZOFFSETTO:-0500
TZNAME:CDT
DTSTART:20210314T080000
END:DAYLIGHT
BEGIN:STANDARD
TZOFFSETFROM:-0500
TZOFFSETTO:-0600
TZNAME:CST
DTSTART:20211107T070000
END:STANDARD
BEGIN:DAYLIGHT
TZOFFSETFROM:-0600
TZOFFSETTO:-0500
TZNAME:CDT
DTSTART:20220313T080000
END:DAYLIGHT
BEGIN:STANDARD
TZOFFSETFROM:-0500
TZOFFSETTO:-0600
TZNAME:CST
DTSTART:20221106T070000
END:STANDARD
BEGIN:DAYLIGHT
TZOFFSETFROM:-0600
TZOFFSETTO:-0500
TZNAME:CDT
DTSTART:20230312T080000
END:DAYLIGHT
BEGIN:STANDARD
TZOFFSETFROM:-0500
TZOFFSETTO:-0600
TZNAME:CST
DTSTART:20231105T070000
END:STANDARD
BEGIN:DAYLIGHT
TZOFFSETFROM:-0600
TZOFFSETTO:-0500
TZNAME:CDT
DTSTART:20240310T080000
END:DAYLIGHT
BEGIN:STANDARD
TZOFFSETFROM:-0500
TZOFFSETTO:-0600
TZNAME:CST
DTSTART:20241103T070000
END:STANDARD
BEGIN:DAYLIGHT
TZOFFSETFROM:-0600
TZOFFSETTO:-0500
TZNAME:CDT
DTSTART:20250309T080000
END:DAYLIGHT
BEGIN:STANDARD
TZOFFSETFROM:-0500
TZOFFSETTO:-0600
TZNAME:CST
DTSTART:20251102T070000
END:STANDARD
BEGIN:DAYLIGHT
TZOFFSETFROM:-0600
TZOFFSETTO:-0500
TZNAME:CDT
DTSTART:20260308T080000
END:DAYLIGHT
BEGIN:STANDARD
TZOFFSETFROM:-0500
TZOFFSETTO:-0600
TZNAME:CST
DTSTART:20261101T070000
END:STANDARD
END:VTIMEZONE
BEGIN:VEVENT
DTSTART;TZID=America/Chicago:20250518T090000
DTEND;TZID=America/Chicago:20250518T120000
DTSTAMP:20260423T171004
CREATED:20250310T215427Z
LAST-MODIFIED:20250310T215427Z
UID:2268-1747558800-1747569600@www.forgivennow.com
SUMMARY:Church/Pastor Anniversary
DESCRIPTION:Church/Pastor Anniversary \nGrace  Ministry\n8550 Florida Blvd\nBaton Rouge\, LA  \n9 am
URL:https://www.forgivennow.com/event/church-pastor-anniversary/
LOCATION:Grace Ministry\, 8550 Floriday Blvd\, BAton Rouge\, LA\, United States
CATEGORIES:Prayer Service
END:VEVENT
BEGIN:VEVENT
DTSTART;TZID=America/Chicago:20250511T110000
DTEND;TZID=America/Chicago:20250511T170000
DTSTAMP:20260423T171004
CREATED:20250310T215118Z
LAST-MODIFIED:20250310T215118Z
UID:2266-1746961200-1746982800@www.forgivennow.com
SUMMARY:Mother’s Day
DESCRIPTION:Mothers Day\nTrue Vine FGBC\nShreveport\, LA  \n11am
URL:https://www.forgivennow.com/event/mothers-day/
LOCATION:True Vine BC\, 2008 Marigny St\, New Orleans\, LA\, United States
CATEGORIES:Prayer Service
END:VEVENT
BEGIN:VEVENT
DTSTART;TZID=America/Chicago:20240616T040000
DTEND;TZID=America/Chicago:20240616T120000
DTSTAMP:20260423T171004
CREATED:20240504T023035Z
LAST-MODIFIED:20240504T023035Z
UID:2221-1718510400-1718539200@www.forgivennow.com
SUMMARY:Father’s Day
DESCRIPTION:Father’s Day\nKingdom Impact Global Worship Centre\n1949 Highway 182\nRaceland\, LA \n9 am
URL:https://www.forgivennow.com/event/fathers-day/
LOCATION:Kingdom Impact Global Worship Centre\, 1949 Hwy 182\, Raceland\, LA\, United States
CATEGORIES:Prayer Service
END:VEVENT
BEGIN:VEVENT
DTSTART;TZID=America/Chicago:20230528T040000
DTEND;TZID=America/Chicago:20230528T070000
DTSTAMP:20260423T171004
CREATED:20230112T021007Z
LAST-MODIFIED:20230112T021007Z
UID:2140-1685246400-1685257200@www.forgivennow.com
SUMMARY:Worship Service
DESCRIPTION:Real Power Summit Worship Service\nNew Orleans’ Convention Center\nLa Nouvelle Orleans Banquet Room   \n9 am
URL:https://www.forgivennow.com/event/worship-service-2/
LOCATION:new orleans convention center\, new orleans\, LA\, United States
CATEGORIES:Prayer Service,Worship Service
END:VEVENT
BEGIN:VEVENT
DTSTART;TZID=America/Chicago:20230129T020000
DTEND;TZID=America/Chicago:20230129T060000
DTSTAMP:20260423T171004
CREATED:20230112T020825Z
LAST-MODIFIED:20230112T020825Z
UID:2137-1674957600-1674972000@www.forgivennow.com
SUMMARY:Prayer Service
DESCRIPTION:New Zion Christian Family Worship Center\n5040 Taravella Rd\nMarrero\, LA \n8 am
URL:https://www.forgivennow.com/event/prayer-service-3/
LOCATION:New Zion Christian Family Worship Center\, 5040 Taravella Rd\, Marrero\, LA\, United States
CATEGORIES:Prayer Service
END:VEVENT
BEGIN:VEVENT
DTSTART;TZID=America/Chicago:20230113T130000
DTEND;TZID=America/Chicago:20230113T150000
DTSTAMP:20260423T171004
CREATED:20230112T020536Z
LAST-MODIFIED:20230112T020536Z
UID:2132-1673614800-1673622000@www.forgivennow.com
SUMMARY:Church Fellowship
DESCRIPTION:Glory of God Community Church fellowship\n3017 Dawson St\nKenner\, LA    \n7pm
URL:https://www.forgivennow.com/event/church-fellowship/
LOCATION:Glory of God Community Church\, 3017 Dawson St\, Kenner\, LA\, United States
CATEGORIES:Prayer Service
END:VEVENT
BEGIN:VEVENT
DTSTART;TZID=America/Chicago:20230108T040000
DTEND;TZID=America/Chicago:20230108T060000
DTSTAMP:20260423T171004
CREATED:20221103T013909Z
LAST-MODIFIED:20221103T013909Z
UID:2122-1673150400-1673157600@www.forgivennow.com
SUMMARY:Morning Worship
DESCRIPTION:Morning Worship\nCompassionate Outreach Ministries\n320 43rd Street\nGainesville\, FL \n10 am
URL:https://www.forgivennow.com/event/morning-worship-5/
LOCATION:Compassionate Outreach Ministries\, 320 43rd Street\, Gainesville\, FL\, United States
CATEGORIES:Prayer Service
END:VEVENT
BEGIN:VEVENT
DTSTART;VALUE=DATE:20221021
DTEND;VALUE=DATE:20221023
DTSTAMP:20260423T171004
CREATED:20220808T204424Z
LAST-MODIFIED:20220808T204424Z
UID:2098-1666378800-1666465199@www.forgivennow.com
SUMMARY:Service
DESCRIPTION:Kingdom Impact Church\n1949 Highway 182\nRaceland\, LA  \n8 am
URL:https://www.forgivennow.com/event/service/
LOCATION:Kingdom Impact Church\, 1949 Highway 182\, Raceland\, LA\, United States
CATEGORIES:Prayer Service
END:VEVENT
BEGIN:VEVENT
DTSTART;TZID=America/Chicago:20220918T064500
DTEND;TZID=America/Chicago:20220918T090000
DTSTAMP:20260423T171004
CREATED:20220808T203913Z
LAST-MODIFIED:20220808T203913Z
UID:2090-1663483500-1663491600@www.forgivennow.com
SUMMARY:Prayer
DESCRIPTION:Holy Anointed House of Prayer\n1447 Senate St\nNOLA  \n11:45 am
URL:https://www.forgivennow.com/event/prayer/
LOCATION:Holy Annointed House of Prayer\, 1373 Senate St\, New Orleans\, LA\, United States
CATEGORIES:Prayer Service
END:VEVENT
BEGIN:VEVENT
DTSTART;VALUE=DATE:20220905
DTEND;VALUE=DATE:20220907
DTSTAMP:20260423T171004
CREATED:20220808T203423Z
LAST-MODIFIED:20220808T203423Z
UID:2082-1662404400-1662490799@www.forgivennow.com
SUMMARY:Bible Study
DESCRIPTION:Beit El (Virtual Service)\nChurch End Time Bible Study
URL:https://www.forgivennow.com/event/bible-study/
LOCATION:LA
CATEGORIES:Prayer Service
END:VEVENT
BEGIN:VEVENT
DTSTART;TZID=America/Chicago:20220821T040000
DTEND;TZID=America/Chicago:20220821T070000
DTSTAMP:20260423T171004
CREATED:20220808T203112Z
LAST-MODIFIED:20220808T203112Z
UID:2077-1661054400-1661065200@www.forgivennow.com
SUMMARY:Worship Service
DESCRIPTION:Watson Memorial Teaching Ministry (Westbank)\n1709 Casa Calvo\nNew Orleans\, LA \n9am \nWorship Service
URL:https://www.forgivennow.com/event/worship-service/
LOCATION:watson memorial teaching ministry\, 4422 St charles Ave\, New Orleans\, LA\, United States
CATEGORIES:Prayer Service
END:VEVENT
BEGIN:VEVENT
DTSTART;TZID=America/Chicago:20220716T040000
DTEND;TZID=America/Chicago:20220716T070000
DTSTAMP:20260423T171004
CREATED:20220304T031647Z
LAST-MODIFIED:20220304T031856Z
UID:2058-1657944000-1657954800@www.forgivennow.com
SUMMARY:Prayer Breakfast
DESCRIPTION:July 16 \nJewel J. Newman Community Center\n2013 Central Rd\nBaton Rouge\, LA  \nPrayer Breakfast\n9 am  \n 
URL:https://www.forgivennow.com/event/2058/
LOCATION:Jewel J. Newman Community Center\, 2013 Central Rd\, Baton Rouge\, LA\, United States
CATEGORIES:Prayer Service
END:VEVENT
BEGIN:VEVENT
DTSTART;TZID=America/Chicago:20220508T030000
DTEND;TZID=America/Chicago:20220508T070000
DTSTAMP:20260423T171004
CREATED:20220505T011207Z
LAST-MODIFIED:20220505T011207Z
UID:2066-1651978800-1651993200@www.forgivennow.com
SUMMARY:Mother’s Day Worship Service
DESCRIPTION:Mother’s Day Worship Service\nChristian Fellowship\n5816 E. Judge Perez Dr\nViolet\, LA  \n8 am
URL:https://www.forgivennow.com/event/mothers-day-worship-service/
LOCATION:Christian Fellowship Family Worship Center\, 5816 E Judge Perez Dr\, Violet\, LA\, 70092\, United States
CATEGORIES:Prayer Service
END:VEVENT
BEGIN:VEVENT
DTSTART;TZID=America/Chicago:20220313T040000
DTEND;TZID=America/Chicago:20220313T070000
DTSTAMP:20260423T171004
CREATED:20220304T025508Z
LAST-MODIFIED:20220304T025508Z
UID:2037-1647144000-1647154800@www.forgivennow.com
SUMMARY:Morning Worship
DESCRIPTION:March 13 \nHousehold Family Worship Church International\n9300 I-10 Svc Rd\nNew Orleans\, LA   \nMorning Worship \n9am
URL:https://www.forgivennow.com/event/morning-worship-4/
LOCATION:Household Family Worship Church International\, 9300 I-10 Service Rd\, New Orleans\, LA\, United States
CATEGORIES:Prayer Service
END:VEVENT
BEGIN:VEVENT
DTSTART;TZID=America/Chicago:20210509T030000
DTEND;TZID=America/Chicago:20210509T050000
DTSTAMP:20260423T171004
CREATED:20210430T223521Z
LAST-MODIFIED:20210430T223521Z
UID:1962-1620529200-1620536400@www.forgivennow.com
SUMMARY:Mother's Day Worship
DESCRIPTION:MAY 9\nCorinne Baptist Church\nMother’s Day Worship\n5620 E. Judge Perez Dr\nViolet\, LA  70092 \n8 am
URL:https://www.forgivennow.com/event/mothers-day-worship-2/
LOCATION:Corinne Baptist Church\, 5620 E. Judge Perez Dr\, Violet\, LA\, 70092\, United States
CATEGORIES:Prayer Service
END:VEVENT
BEGIN:VEVENT
DTSTART;TZID=America/Chicago:20200905T050000
DTEND;TZID=America/Chicago:20200905T070000
DTSTAMP:20260423T171004
CREATED:20200219T230806Z
LAST-MODIFIED:20200219T230806Z
UID:1900-1599282000-1599289200@www.forgivennow.com
SUMMARY:Prayer Breakfast
DESCRIPTION:Prayer Breakfast \nEbenezer BC\n3359 Jackson Street\nDarrow\, LA  70725  \n10 am
URL:https://www.forgivennow.com/event/prayer-breakfast-3/
LOCATION:Ebeneezer BC\, 2415 South Claiborne Ave\, New Orleans\, LA\, United States
CATEGORIES:Prayer Service
END:VEVENT
BEGIN:VEVENT
DTSTART;TZID=America/Chicago:20191229T043000
DTEND;TZID=America/Chicago:20191229T130000
DTSTAMP:20260423T171004
CREATED:20190329T210719Z
LAST-MODIFIED:20190329T210719Z
UID:1786-1577593800-1577624400@www.forgivennow.com
SUMMARY:Worship Services
DESCRIPTION:Seed of Faith Ministries International\nSalem\, OR  \n10:30 am Morning Worship \n6 pm Evening Worship
URL:https://www.forgivennow.com/event/worship-services/
LOCATION:seed of faith ministries international\, Salem\, OR\, United States
CATEGORIES:Prayer Service
END:VEVENT
BEGIN:VEVENT
DTSTART;TZID=America/Chicago:20190428T023000
DTEND;TZID=America/Chicago:20190428T080000
DTSTAMP:20260423T171004
CREATED:20190110T032000Z
LAST-MODIFIED:20190110T032000Z
UID:1669-1556418600-1556438400@www.forgivennow.com
SUMMARY:Prayer Service
DESCRIPTION:Greater King David Baptist Church\n7305 Harry Dr Blount Road\nBaton Rouge\, LA  \n7:30 am AND 11:00 AM
URL:https://www.forgivennow.com/event/prayer-service-2/
LOCATION:Greater King David Baptist Church\, 7305 Harry Dr Blount Road\, Baton Rouge\, LA\, United States
CATEGORIES:Prayer Service
END:VEVENT
BEGIN:VEVENT
DTSTART;TZID=America/Chicago:20190418T140000
DTEND;TZID=America/Chicago:20190418T150000
DTSTAMP:20260423T171004
CREATED:20190326T010021Z
LAST-MODIFIED:20190326T010021Z
UID:1759-1555596000-1555599600@www.forgivennow.com
SUMMARY:Holy Thursday Service
DESCRIPTION:Holy Thursday Service.\nWatson Memorial Teaching Ministry\n4400 St Charles Ave\nNOLA. \n7 pm
URL:https://www.forgivennow.com/event/holy-thursday-service/
LOCATION:watson memorial teaching ministry\, 4422 St charles Ave\, New Orleans\, LA\, United States
CATEGORIES:Prayer Service
END:VEVENT
BEGIN:VEVENT
DTSTART;TZID=America/Chicago:20181016T140000
DTEND;TZID=America/Chicago:20181019T160000
DTSTAMP:20260423T171004
CREATED:20180918T020502Z
LAST-MODIFIED:20180918T020502Z
UID:1631-1539698400-1539964800@www.forgivennow.com
SUMMARY:Prayer Service
DESCRIPTION:October 16-19   \nSt Stephen MBC\n1738 LB Landry Ave\nNOLA  \n7pm nightly
URL:https://www.forgivennow.com/event/prayer-service/
LOCATION:St. Stephen MBC\, 1738 LB Landry Ave\, New Orleans\, LA\, United States
CATEGORIES:Prayer Service
END:VEVENT
BEGIN:VEVENT
DTSTART;VALUE=DATE:20180716
DTEND;VALUE=DATE:20180718
DTSTAMP:20260423T171004
CREATED:20180113T204911Z
LAST-MODIFIED:20180113T204911Z
UID:1510-1531767600-1531853999@www.forgivennow.com
SUMMARY:Holy Convocation
DESCRIPTION:Spoken Word Ministerial Alliance Holy Convocation\, held at Sheraton Hotel\, Metairie\, LA. \nDial Evangelist Wyn at 248-636-7272 for more information
URL:https://www.forgivennow.com/event/holy-convocation/
LOCATION:LA
CATEGORIES:Prayer Service
END:VEVENT
BEGIN:VEVENT
DTSTART;TZID=America/Chicago:20180715T030000
DTEND;TZID=America/Chicago:20180715T060000
DTSTAMP:20260423T171004
CREATED:20180614T015147Z
LAST-MODIFIED:20180614T015147Z
UID:1606-1531623600-1531634400@www.forgivennow.com
SUMMARY:Morning Fellowship
DESCRIPTION:New Phillipians  MBC  \n5234 N. Claiborne Ave\, NOLA \nMorning Fellowship  8:30 am
URL:https://www.forgivennow.com/event/morning-fellowship/
LOCATION:New Phillipians MBC\, 5234 N Claiborne Ave\, New Orleans\, LA\, United States
CATEGORIES:Prayer Service
END:VEVENT
BEGIN:VEVENT
DTSTART;TZID=America/Chicago:20180708T060000
DTEND;TZID=America/Chicago:20180708T120000
DTSTAMP:20260423T171004
CREATED:20180113T204747Z
LAST-MODIFIED:20180113T204747Z
UID:1508-1531029600-1531051200@www.forgivennow.com
SUMMARY:Outreach Ministry Celebration
DESCRIPTION: Mount Zion MBC. \n2200 Dumaine St\nNOLA. 70117. \nOutreach Ministry Celebration \n11:00 am
URL:https://www.forgivennow.com/event/outreach-ministry-celebration/
LOCATION:Mount Zion Baptist Church\, 808 St Patrick St\, White Castle\, LA\, United States
CATEGORIES:Prayer Service
END:VEVENT
BEGIN:VEVENT
DTSTART;TZID=America/Chicago:20180610T120000
DTEND;TZID=America/Chicago:20180610T140000
DTSTAMP:20260423T171004
CREATED:20180417T073401Z
LAST-MODIFIED:20180417T073401Z
UID:1583-1528632000-1528639200@www.forgivennow.com
SUMMARY:CD Release
DESCRIPTION:Jessica Harvey and The Difference\nCD Release\, \n5 pm Details Pending
URL:https://www.forgivennow.com/event/cd-release/
LOCATION:LA
CATEGORIES:Prayer Service
END:VEVENT
BEGIN:VEVENT
DTSTART;TZID=America/Chicago:20180329T070000
DTEND;TZID=America/Chicago:20180329T090000
DTSTAMP:20260423T171004
CREATED:20180113T204628Z
LAST-MODIFIED:20180113T204636Z
UID:1504-1522306800-1522314000@www.forgivennow.com
SUMMARY:Holy Thursday Resurrection Service
DESCRIPTION: Holy Thursday Resurrection service. \nWatson Memorial Teaching Ministry\n4422 St Charles Ave\nNOLA. \n12 noon
URL:https://www.forgivennow.com/event/holy-thursday-resurrection-service/
LOCATION:watson memorial teaching ministry\, 4422 St charles Ave\, New Orleans\, LA\, United States
CATEGORIES:Prayer Service
END:VEVENT
BEGIN:VEVENT
DTSTART;TZID=America/Chicago:20180127T030000
DTEND;TZID=America/Chicago:20180127T050000
DTSTAMP:20260423T171004
CREATED:20180102T003204Z
LAST-MODIFIED:20180102T003204Z
UID:1497-1517022000-1517029200@www.forgivennow.com
SUMMARY:Pro-Vision Board Prayer Breakfast
DESCRIPTION:
URL:https://www.forgivennow.com/event/pro-vision-board-prayer-breakfast/
LOCATION:faith hall\, 1526 Alvar St\, New Orleans\, LA\, 70117\, United States
CATEGORIES:Prayer Service
END:VEVENT
BEGIN:VEVENT
DTSTART;VALUE=DATE:20171004
DTEND;VALUE=DATE:20171007
DTSTAMP:20260423T171004
CREATED:20170706T233653Z
LAST-MODIFIED:20170706T233653Z
UID:1434-1507143600-1507316399@www.forgivennow.com
SUMMARY:Fall Revival
DESCRIPTION:Fall Revival\nLion of Judah Ministries\n2844 St Anthony St\nNOLA   \n7 pm  nightly
URL:https://www.forgivennow.com/event/fall-revival/
LOCATION:Lion of Judah Ministries\, 2884 St Anthony St\, New Orleans\, LA\, United States
CATEGORIES:Prayer Service
END:VEVENT
BEGIN:VEVENT
DTSTART;TZID=America/Chicago:20171001T120000
DTEND;TZID=America/Chicago:20171001T140000
DTSTAMP:20260423T171004
CREATED:20170915T012633Z
LAST-MODIFIED:20170915T012633Z
UID:1462-1506859200-1506866400@www.forgivennow.com
SUMMARY:Pastor's Anniversary
DESCRIPTION:Pastor’s Anniversary\nMt Cyrene BC\n 25159 Dublieux St\nPlaquemines\, LA   \n5:00pm
URL:https://www.forgivennow.com/event/pastors-anniversary-3/
LOCATION:Mt Cyrene BC\, 25159 Dublieux St\, Plaquemines\, LA\, United States
CATEGORIES:Prayer Service
END:VEVENT
BEGIN:VEVENT
DTSTART;VALUE=DATE:20170930
DTEND;VALUE=DATE:20171002
DTSTAMP:20260423T171004
CREATED:20170915T012438Z
LAST-MODIFIED:20170915T012438Z
UID:1459-1506798000-1506884399@www.forgivennow.com
SUMMARY:Family & Friends Day
DESCRIPTION:Family & Friends Day\nNew Zion CFWC  \n5040 Tara Bella\nMarrero\, LA  70072 \n8:30 am  
URL:https://www.forgivennow.com/event/family-friends-day/
LOCATION:new zion cfwc\, 5040 Tara Bella\, Marrero\, LA\, 70072\, United States
CATEGORIES:Prayer Service
END:VEVENT
BEGIN:VEVENT
DTSTART;TZID=America/Chicago:20170917T063000
DTEND;TZID=America/Chicago:20170917T080000
DTSTAMP:20260423T171004
CREATED:20170831T075442Z
LAST-MODIFIED:20170831T075442Z
UID:1455-1505629800-1505635200@www.forgivennow.com
SUMMARY:Morning Worship
DESCRIPTION:Morning Worship\nHoly Anointed HOP\n1373 Senate St\nNOLA   \n11:30 am
URL:https://www.forgivennow.com/event/morning-worship-3/
LOCATION:Holy Anointed House of Prayer\, LA\, United States
CATEGORIES:Prayer Service
END:VEVENT
END:VCALENDAR