BEGIN:VCALENDAR
VERSION:2.0
PRODID:-//Forgiven. The Evangelistic Ministry of Melonie Pichon - ECPv6.15.20//NONSGML v1.0//EN
CALSCALE:GREGORIAN
METHOD:PUBLISH
X-ORIGINAL-URL:https://www.forgivennow.com
X-WR-CALDESC:Events for Forgiven. The Evangelistic Ministry of Melonie Pichon
REFRESH-INTERVAL;VALUE=DURATION:PT1H
X-Robots-Tag:noindex
X-PUBLISHED-TTL:PT1H
BEGIN:VTIMEZONE
TZID:America/Chicago
BEGIN:DAYLIGHT
TZOFFSETFROM:-0600
TZOFFSETTO:-0500
TZNAME:CDT
DTSTART:20140309T080000
END:DAYLIGHT
BEGIN:STANDARD
TZOFFSETFROM:-0500
TZOFFSETTO:-0600
TZNAME:CST
DTSTART:20141102T070000
END:STANDARD
BEGIN:DAYLIGHT
TZOFFSETFROM:-0600
TZOFFSETTO:-0500
TZNAME:CDT
DTSTART:20150308T080000
END:DAYLIGHT
BEGIN:STANDARD
TZOFFSETFROM:-0500
TZOFFSETTO:-0600
TZNAME:CST
DTSTART:20151101T070000
END:STANDARD
BEGIN:DAYLIGHT
TZOFFSETFROM:-0600
TZOFFSETTO:-0500
TZNAME:CDT
DTSTART:20160313T080000
END:DAYLIGHT
BEGIN:STANDARD
TZOFFSETFROM:-0500
TZOFFSETTO:-0600
TZNAME:CST
DTSTART:20161106T070000
END:STANDARD
BEGIN:DAYLIGHT
TZOFFSETFROM:-0600
TZOFFSETTO:-0500
TZNAME:CDT
DTSTART:20170312T080000
END:DAYLIGHT
BEGIN:STANDARD
TZOFFSETFROM:-0500
TZOFFSETTO:-0600
TZNAME:CST
DTSTART:20171105T070000
END:STANDARD
BEGIN:DAYLIGHT
TZOFFSETFROM:-0600
TZOFFSETTO:-0500
TZNAME:CDT
DTSTART:20180311T080000
END:DAYLIGHT
BEGIN:STANDARD
TZOFFSETFROM:-0500
TZOFFSETTO:-0600
TZNAME:CST
DTSTART:20181104T070000
END:STANDARD
BEGIN:DAYLIGHT
TZOFFSETFROM:-0600
TZOFFSETTO:-0500
TZNAME:CDT
DTSTART:20190310T080000
END:DAYLIGHT
BEGIN:STANDARD
TZOFFSETFROM:-0500
TZOFFSETTO:-0600
TZNAME:CST
DTSTART:20191103T070000
END:STANDARD
END:VTIMEZONE
BEGIN:VEVENT
DTSTART;VALUE=DATE:20180716
DTEND;VALUE=DATE:20180718
DTSTAMP:20260423T194908
CREATED:20180113T204911Z
LAST-MODIFIED:20180113T204911Z
UID:1510-1531767600-1531853999@www.forgivennow.com
SUMMARY:Holy Convocation
DESCRIPTION:Spoken Word Ministerial Alliance Holy Convocation\, held at Sheraton Hotel\, Metairie\, LA. \nDial Evangelist Wyn at 248-636-7272 for more information
URL:https://www.forgivennow.com/event/holy-convocation/
LOCATION:LA
CATEGORIES:Prayer Service
END:VEVENT
BEGIN:VEVENT
DTSTART;TZID=America/Chicago:20180715T030000
DTEND;TZID=America/Chicago:20180715T060000
DTSTAMP:20260423T194908
CREATED:20180614T015147Z
LAST-MODIFIED:20180614T015147Z
UID:1606-1531623600-1531634400@www.forgivennow.com
SUMMARY:Morning Fellowship
DESCRIPTION:New Phillipians  MBC  \n5234 N. Claiborne Ave\, NOLA \nMorning Fellowship  8:30 am
URL:https://www.forgivennow.com/event/morning-fellowship/
LOCATION:New Phillipians MBC\, 5234 N Claiborne Ave\, New Orleans\, LA\, United States
CATEGORIES:Prayer Service
END:VEVENT
BEGIN:VEVENT
DTSTART;TZID=America/Chicago:20180708T060000
DTEND;TZID=America/Chicago:20180708T120000
DTSTAMP:20260423T194908
CREATED:20180113T204747Z
LAST-MODIFIED:20180113T204747Z
UID:1508-1531029600-1531051200@www.forgivennow.com
SUMMARY:Outreach Ministry Celebration
DESCRIPTION: Mount Zion MBC. \n2200 Dumaine St\nNOLA. 70117. \nOutreach Ministry Celebration \n11:00 am
URL:https://www.forgivennow.com/event/outreach-ministry-celebration/
LOCATION:Mount Zion Baptist Church\, 808 St Patrick St\, White Castle\, LA\, United States
CATEGORIES:Prayer Service
END:VEVENT
BEGIN:VEVENT
DTSTART;TZID=America/Chicago:20180610T120000
DTEND;TZID=America/Chicago:20180610T140000
DTSTAMP:20260423T194908
CREATED:20180417T073401Z
LAST-MODIFIED:20180417T073401Z
UID:1583-1528632000-1528639200@www.forgivennow.com
SUMMARY:CD Release
DESCRIPTION:Jessica Harvey and The Difference\nCD Release\, \n5 pm Details Pending
URL:https://www.forgivennow.com/event/cd-release/
LOCATION:LA
CATEGORIES:Prayer Service
END:VEVENT
BEGIN:VEVENT
DTSTART;TZID=America/Chicago:20180329T070000
DTEND;TZID=America/Chicago:20180329T090000
DTSTAMP:20260423T194908
CREATED:20180113T204628Z
LAST-MODIFIED:20180113T204636Z
UID:1504-1522306800-1522314000@www.forgivennow.com
SUMMARY:Holy Thursday Resurrection Service
DESCRIPTION: Holy Thursday Resurrection service. \nWatson Memorial Teaching Ministry\n4422 St Charles Ave\nNOLA. \n12 noon
URL:https://www.forgivennow.com/event/holy-thursday-resurrection-service/
LOCATION:watson memorial teaching ministry\, 4422 St charles Ave\, New Orleans\, LA\, United States
CATEGORIES:Prayer Service
END:VEVENT
BEGIN:VEVENT
DTSTART;TZID=America/Chicago:20180127T030000
DTEND;TZID=America/Chicago:20180127T050000
DTSTAMP:20260423T194908
CREATED:20180102T003204Z
LAST-MODIFIED:20180102T003204Z
UID:1497-1517022000-1517029200@www.forgivennow.com
SUMMARY:Pro-Vision Board Prayer Breakfast
DESCRIPTION:
URL:https://www.forgivennow.com/event/pro-vision-board-prayer-breakfast/
LOCATION:faith hall\, 1526 Alvar St\, New Orleans\, LA\, 70117\, United States
CATEGORIES:Prayer Service
END:VEVENT
BEGIN:VEVENT
DTSTART;VALUE=DATE:20171004
DTEND;VALUE=DATE:20171007
DTSTAMP:20260423T194908
CREATED:20170706T233653Z
LAST-MODIFIED:20170706T233653Z
UID:1434-1507143600-1507316399@www.forgivennow.com
SUMMARY:Fall Revival
DESCRIPTION:Fall Revival\nLion of Judah Ministries\n2844 St Anthony St\nNOLA   \n7 pm  nightly
URL:https://www.forgivennow.com/event/fall-revival/
LOCATION:Lion of Judah Ministries\, 2884 St Anthony St\, New Orleans\, LA\, United States
CATEGORIES:Prayer Service
END:VEVENT
BEGIN:VEVENT
DTSTART;TZID=America/Chicago:20171001T120000
DTEND;TZID=America/Chicago:20171001T140000
DTSTAMP:20260423T194908
CREATED:20170915T012633Z
LAST-MODIFIED:20170915T012633Z
UID:1462-1506859200-1506866400@www.forgivennow.com
SUMMARY:Pastor's Anniversary
DESCRIPTION:Pastor’s Anniversary\nMt Cyrene BC\n 25159 Dublieux St\nPlaquemines\, LA   \n5:00pm
URL:https://www.forgivennow.com/event/pastors-anniversary-3/
LOCATION:Mt Cyrene BC\, 25159 Dublieux St\, Plaquemines\, LA\, United States
CATEGORIES:Prayer Service
END:VEVENT
BEGIN:VEVENT
DTSTART;VALUE=DATE:20170930
DTEND;VALUE=DATE:20171002
DTSTAMP:20260423T194908
CREATED:20170915T012438Z
LAST-MODIFIED:20170915T012438Z
UID:1459-1506798000-1506884399@www.forgivennow.com
SUMMARY:Family & Friends Day
DESCRIPTION:Family & Friends Day\nNew Zion CFWC  \n5040 Tara Bella\nMarrero\, LA  70072 \n8:30 am  
URL:https://www.forgivennow.com/event/family-friends-day/
LOCATION:new zion cfwc\, 5040 Tara Bella\, Marrero\, LA\, 70072\, United States
CATEGORIES:Prayer Service
END:VEVENT
BEGIN:VEVENT
DTSTART;TZID=America/Chicago:20170917T063000
DTEND;TZID=America/Chicago:20170917T080000
DTSTAMP:20260423T194908
CREATED:20170831T075442Z
LAST-MODIFIED:20170831T075442Z
UID:1455-1505629800-1505635200@www.forgivennow.com
SUMMARY:Morning Worship
DESCRIPTION:Morning Worship\nHoly Anointed HOP\n1373 Senate St\nNOLA   \n11:30 am
URL:https://www.forgivennow.com/event/morning-worship-3/
LOCATION:Holy Anointed House of Prayer\, LA\, United States
CATEGORIES:Prayer Service
END:VEVENT
BEGIN:VEVENT
DTSTART;TZID=America/Chicago:20170910T043000
DTEND;TZID=America/Chicago:20170910T070000
DTSTAMP:20260423T194908
CREATED:20170831T075335Z
LAST-MODIFIED:20170831T075335Z
UID:1452-1505017800-1505026800@www.forgivennow.com
SUMMARY:Morning Worship
DESCRIPTION:Praise Celebration Morning Worship\nNew Vision CCC\n1949 Hwy 18\nRaceland\, LA   \n9:30 am
URL:https://www.forgivennow.com/event/morning-worship-2/
LOCATION:New vision CCC\, 1949 Hwy 18\, Raceland\, LA\, United States
CATEGORIES:Prayer Service
END:VEVENT
BEGIN:VEVENT
DTSTART;TZID=America/Chicago:20170907T141500
DTEND;TZID=America/Chicago:20170907T160000
DTSTAMP:20260423T194908
CREATED:20170831T075126Z
LAST-MODIFIED:20170831T075126Z
UID:1449-1504793700-1504800000@www.forgivennow.com
SUMMARY:Singles' Bible Study
DESCRIPTION:Singles’ Bible Study\nTriumphant Church\n1001 Paul Mailliard Rd\nLuling\, LA   \n7:15 pm
URL:https://www.forgivennow.com/event/singles-bible-study/
LOCATION:Triumphant Church\, 1001 Paul Mailliard Rd\, Luling\, LA\, United States
CATEGORIES:Prayer Service
END:VEVENT
BEGIN:VEVENT
DTSTART;TZID=America/Chicago:20170813T043000
DTEND;TZID=America/Chicago:20170813T060000
DTSTAMP:20260423T194908
CREATED:20170724T194627Z
LAST-MODIFIED:20170724T194627Z
UID:1440-1502598600-1502604000@www.forgivennow.com
SUMMARY:Morning Worship
DESCRIPTION:Greater Mt Calvary Church\n1600 Westwood Dr\nMarrero\, LA  \n9:30 am  Morning Worship
URL:https://www.forgivennow.com/event/morning-worship/
LOCATION:Greater Mt Cavalry Church\, 1001 Paul Maillard Rd\, Luling\, LA\, United States
CATEGORIES:Prayer Service
END:VEVENT
BEGIN:VEVENT
DTSTART;VALUE=DATE:20170727
DTEND;VALUE=DATE:20170730
DTSTAMP:20260423T194908
CREATED:20170706T233341Z
LAST-MODIFIED:20170706T233341Z
UID:1429-1501182000-1501354799@www.forgivennow.com
SUMMARY:Prophet's Anniversary Service
DESCRIPTION:Prophet’s Anniversary Service\nFt Lauderdale\, FL   \n7pm
URL:https://www.forgivennow.com/event/prophets-anniversary-service/
LOCATION:LA
CATEGORIES:Prayer Service
END:VEVENT
BEGIN:VEVENT
DTSTART;TZID=America/Chicago:20170709T060000
DTEND;TZID=America/Chicago:20170709T090000
DTSTAMP:20260423T194908
CREATED:20170328T201221Z
LAST-MODIFIED:20170328T201221Z
UID:1404-1499580000-1499590800@www.forgivennow.com
SUMMARY:Church Anniversary
DESCRIPTION:Church Anniversary\nMt Zion Outreach Ministry\n2200 Dumaine St\nNew Orleans\, LA  70117 \n11 am
URL:https://www.forgivennow.com/event/church-anniversary-2/
LOCATION:mount zion outreach ministry\, 2200 Dumaine St\, New Orleans\, LA\, United States
CATEGORIES:Prayer Service
END:VEVENT
BEGIN:VEVENT
DTSTART;TZID=America/Chicago:20170611T040000
DTEND;TZID=America/Chicago:20170611T070000
DTSTAMP:20260423T194908
CREATED:20170328T200407Z
LAST-MODIFIED:20170328T200409Z
UID:1397-1497153600-1497164400@www.forgivennow.com
SUMMARY:Church Anniversary
DESCRIPTION:Church Anniversary\nNew Beginnings Ministry\n6215 Franklin Ave\nNew Orleans\, LA \n9 am
URL:https://www.forgivennow.com/event/church-anniversary/
LOCATION:new beginnings ministry\, 6215 Franklin Ave\, New Orleans\, LA\, United States
CATEGORIES:Prayer Service
END:VEVENT
BEGIN:VEVENT
DTSTART;TZID=America/Chicago:20170513T050000
DTEND;TZID=America/Chicago:20170513T070000
DTSTAMP:20260423T194908
CREATED:20170504T204434Z
LAST-MODIFIED:20170504T204434Z
UID:1419-1494651600-1494658800@www.forgivennow.com
SUMMARY:Mother's Day Breakfast
DESCRIPTION:Kingdom Purpose Outreach Ministry\nMother’s Day Breakfast\n5425 Highway 1\nNapoleonville\, LA   \n10 am
URL:https://www.forgivennow.com/event/mothers-day-breakfast/
LOCATION:LA
CATEGORIES:Prayer Service
END:VEVENT
BEGIN:VEVENT
DTSTART;TZID=America/Chicago:20170423T040000
DTEND;TZID=America/Chicago:20170423T070000
DTSTAMP:20260423T194908
CREATED:20170328T195621Z
LAST-MODIFIED:20170328T195621Z
UID:1383-1492920000-1492930800@www.forgivennow.com
SUMMARY:Pastor's Anniversary
DESCRIPTION:Pastor’s Anniversary\nGreater St Stephen FGBC\n(Service held at Temple Sinai)\n6227 St Charles Ave\, New Orleans\, LA 7011 \n9am
URL:https://www.forgivennow.com/event/pastors-anniversary-2/
LOCATION:Greater St Stephen FGBC\, 5600 Read Blvd\, New Orleans\, United States
CATEGORIES:Prayer Service
END:VEVENT
BEGIN:VEVENT
DTSTART;TZID=America/Chicago:20170311T020000
DTEND;TZID=America/Chicago:20170311T040000
DTSTAMP:20260423T194908
CREATED:20170328T195126Z
LAST-MODIFIED:20170328T195126Z
UID:1376-1489197600-1489204800@www.forgivennow.com
SUMMARY:Prayer Breakfast
DESCRIPTION:March 11 \nPrayer Breakfast\nGreater Star of Bethel MBC\n2217 Harmony St\nNew Orleans\, LA \n8 am
URL:https://www.forgivennow.com/event/prayer-breakfast-2/
LOCATION:LA
CATEGORIES:Prayer Service
END:VEVENT
BEGIN:VEVENT
DTSTART;TZID=America/Chicago:20151201T000000
DTEND;TZID=America/Chicago:20151201T030000
DTSTAMP:20260423T194908
CREATED:20150104T072057Z
LAST-MODIFIED:20150104T072057Z
UID:655-1448928000-1448938800@www.forgivennow.com
SUMMARY:City United in Prayer
DESCRIPTION:City United in Prayer\nMercedes Benz Superdome\n6 am
URL:https://www.forgivennow.com/event/city-united-in-prayer-11/
LOCATION:Superdome Gate C\, New Orleans\, LA\, United States
CATEGORIES:Prayer Service
END:VEVENT
BEGIN:VEVENT
DTSTART;TZID=America/Chicago:20151101T010000
DTEND;TZID=America/Chicago:20151101T030000
DTSTAMP:20260423T194908
CREATED:20150104T072003Z
LAST-MODIFIED:20150104T072019Z
UID:654-1446339600-1446346800@www.forgivennow.com
SUMMARY:City United in Prayer
DESCRIPTION:City United in Prayer\nMercedes Benz Superdome\n6 am
URL:https://www.forgivennow.com/event/city-united-in-prayer-10/
LOCATION:Superdome Gate C\, New Orleans\, LA\, United States
CATEGORIES:Prayer Service
END:VEVENT
BEGIN:VEVENT
DTSTART;TZID=America/Chicago:20151001T010000
DTEND;TZID=America/Chicago:20151001T040000
DTSTAMP:20260423T194908
CREATED:20150104T071930Z
LAST-MODIFIED:20150104T072127Z
UID:653-1443661200-1443672000@www.forgivennow.com
SUMMARY:City United in Prayer
DESCRIPTION:City United in Prayer\nMercedes Benz Superdome\n6 am
URL:https://www.forgivennow.com/event/city-united-in-prayer-9/
LOCATION:Superdome Gate C\, New Orleans\, LA\, United States
CATEGORIES:Prayer Service
END:VEVENT
BEGIN:VEVENT
DTSTART;TZID=America/Chicago:20150901T010000
DTEND;TZID=America/Chicago:20150901T040000
DTSTAMP:20260423T194908
CREATED:20150104T071847Z
LAST-MODIFIED:20150104T072152Z
UID:652-1441069200-1441080000@www.forgivennow.com
SUMMARY:City United in Prayer
DESCRIPTION:City United in Prayer\nMercedes Benz Superdome\n6 am
URL:https://www.forgivennow.com/event/city-united-in-prayer-8/
LOCATION:Superdome Gate C\, New Orleans\, LA\, United States
CATEGORIES:Prayer Service
END:VEVENT
BEGIN:VEVENT
DTSTART;TZID=America/Chicago:20150801T010000
DTEND;TZID=America/Chicago:20150801T040000
DTSTAMP:20260423T194908
CREATED:20150104T071810Z
LAST-MODIFIED:20150104T072234Z
UID:651-1438390800-1438401600@www.forgivennow.com
SUMMARY:City United in Prayer
DESCRIPTION:City United in Prayer\nMercedes Benz Superdome\n6 am
URL:https://www.forgivennow.com/event/city-united-in-prayer-7/
LOCATION:Superdome Gate C\, New Orleans\, LA\, United States
CATEGORIES:Prayer Service
END:VEVENT
BEGIN:VEVENT
DTSTART;TZID=America/Chicago:20150701T010000
DTEND;TZID=America/Chicago:20150701T040000
DTSTAMP:20260423T194908
CREATED:20150104T071732Z
LAST-MODIFIED:20150104T071732Z
UID:650-1435712400-1435723200@www.forgivennow.com
SUMMARY:City United in Prayer
DESCRIPTION:City United in Prayer\nMercedes Benz Superdome\n6 am
URL:https://www.forgivennow.com/event/city-united-in-prayer-6/
LOCATION:LA
CATEGORIES:Prayer Service
END:VEVENT
BEGIN:VEVENT
DTSTART;TZID=America/Chicago:20150601T010000
DTEND;TZID=America/Chicago:20150601T040000
DTSTAMP:20260423T194908
CREATED:20150104T071655Z
LAST-MODIFIED:20150104T071655Z
UID:649-1433120400-1433131200@www.forgivennow.com
SUMMARY:City United in Prayer
DESCRIPTION:City United in Prayer\nMercedes Benz Superdome\n6 am
URL:https://www.forgivennow.com/event/city-united-in-prayer-5/
LOCATION:LA
CATEGORIES:Prayer Service
END:VEVENT
BEGIN:VEVENT
DTSTART;TZID=America/Chicago:20150524T050000
DTEND;TZID=America/Chicago:20150524T070000
DTSTAMP:20260423T194908
CREATED:20150224T223533Z
LAST-MODIFIED:20150224T223533Z
UID:685-1432443600-1432450800@www.forgivennow.com
SUMMARY:Pray with us!
DESCRIPTION:Solid Rock Christian Church\,\n1817 Rev Richard Wilson Dr\nKenner\, LA.\n10am
URL:https://www.forgivennow.com/event/pray-with-us/
LOCATION:Solid Rock Christian Church\, 1817 Rev Richard Wilson Dr\, Kenner\, LA\, United States
CATEGORIES:Prayer Service
END:VEVENT
BEGIN:VEVENT
DTSTART;TZID=America/Chicago:20150522T140000
DTEND;TZID=America/Chicago:20150522T160000
DTSTAMP:20260423T194908
CREATED:20150401T070247Z
LAST-MODIFIED:20150401T070248Z
UID:688-1432303200-1432310400@www.forgivennow.com
SUMMARY:Pastor's Anniversary
DESCRIPTION:Pastor’s Anniversary\nGreater Rhema FGBC\n712 W. Admiral Doyle Dr\nNew Iberia\, LA 70560\n7pm
URL:https://www.forgivennow.com/event/pastors-anniversary/
LOCATION:Greater Rhema FGBC\, 712 W. Admiral Doyle Dr\, New Iberia\, LA\, 70560\, United States
CATEGORIES:Prayer Service
END:VEVENT
BEGIN:VEVENT
DTSTART;TZID=America/Chicago:20150501T010000
DTEND;TZID=America/Chicago:20150501T040000
DTSTAMP:20260423T194908
CREATED:20150104T071618Z
LAST-MODIFIED:20150104T071618Z
UID:648-1430442000-1430452800@www.forgivennow.com
SUMMARY:City United in Prayer
DESCRIPTION:City United in Prayer\nMercedes Benz Superdome\n6 am
URL:https://www.forgivennow.com/event/city-united-in-prayer-4/
LOCATION:Superdome Gate C\, New Orleans\, LA\, United States
CATEGORIES:Prayer Service
END:VEVENT
BEGIN:VEVENT
DTSTART;TZID=America/Chicago:20150401T010000
DTEND;TZID=America/Chicago:20150401T030000
DTSTAMP:20260423T194908
CREATED:20150104T071522Z
LAST-MODIFIED:20150104T071522Z
UID:647-1427850000-1427857200@www.forgivennow.com
SUMMARY:City United in Prayer
DESCRIPTION:City United in Prayer\nMercedes Benz Superdome\n6 am
URL:https://www.forgivennow.com/event/city-united-in-prayer-3/
LOCATION:LA
CATEGORIES:Prayer Service
END:VEVENT
END:VCALENDAR