BEGIN:VCALENDAR
VERSION:2.0
PRODID:-//Forgiven. The Evangelistic Ministry of Melonie Pichon - ECPv6.15.20//NONSGML v1.0//EN
CALSCALE:GREGORIAN
METHOD:PUBLISH
X-WR-CALNAME:Forgiven. The Evangelistic Ministry of Melonie Pichon
X-ORIGINAL-URL:https://www.forgivennow.com
X-WR-CALDESC:Events for Forgiven. The Evangelistic Ministry of Melonie Pichon
REFRESH-INTERVAL;VALUE=DURATION:PT1H
X-Robots-Tag:noindex
X-PUBLISHED-TTL:PT1H
BEGIN:VTIMEZONE
TZID:America/Chicago
BEGIN:DAYLIGHT
TZOFFSETFROM:-0600
TZOFFSETTO:-0500
TZNAME:CDT
DTSTART:20130310T080000
END:DAYLIGHT
BEGIN:STANDARD
TZOFFSETFROM:-0500
TZOFFSETTO:-0600
TZNAME:CST
DTSTART:20131103T070000
END:STANDARD
BEGIN:DAYLIGHT
TZOFFSETFROM:-0600
TZOFFSETTO:-0500
TZNAME:CDT
DTSTART:20140309T080000
END:DAYLIGHT
BEGIN:STANDARD
TZOFFSETFROM:-0500
TZOFFSETTO:-0600
TZNAME:CST
DTSTART:20141102T070000
END:STANDARD
BEGIN:DAYLIGHT
TZOFFSETFROM:-0600
TZOFFSETTO:-0500
TZNAME:CDT
DTSTART:20150308T080000
END:DAYLIGHT
BEGIN:STANDARD
TZOFFSETFROM:-0500
TZOFFSETTO:-0600
TZNAME:CST
DTSTART:20151101T070000
END:STANDARD
BEGIN:DAYLIGHT
TZOFFSETFROM:-0600
TZOFFSETTO:-0500
TZNAME:CDT
DTSTART:20160313T080000
END:DAYLIGHT
BEGIN:STANDARD
TZOFFSETFROM:-0500
TZOFFSETTO:-0600
TZNAME:CST
DTSTART:20161106T070000
END:STANDARD
BEGIN:DAYLIGHT
TZOFFSETFROM:-0600
TZOFFSETTO:-0500
TZNAME:CDT
DTSTART:20170312T080000
END:DAYLIGHT
BEGIN:STANDARD
TZOFFSETFROM:-0500
TZOFFSETTO:-0600
TZNAME:CST
DTSTART:20171105T070000
END:STANDARD
BEGIN:DAYLIGHT
TZOFFSETFROM:-0600
TZOFFSETTO:-0500
TZNAME:CDT
DTSTART:20180311T080000
END:DAYLIGHT
BEGIN:STANDARD
TZOFFSETFROM:-0500
TZOFFSETTO:-0600
TZNAME:CST
DTSTART:20181104T070000
END:STANDARD
BEGIN:DAYLIGHT
TZOFFSETFROM:-0600
TZOFFSETTO:-0500
TZNAME:CDT
DTSTART:20190310T080000
END:DAYLIGHT
BEGIN:STANDARD
TZOFFSETFROM:-0500
TZOFFSETTO:-0600
TZNAME:CST
DTSTART:20191103T070000
END:STANDARD
BEGIN:DAYLIGHT
TZOFFSETFROM:-0600
TZOFFSETTO:-0500
TZNAME:CDT
DTSTART:20200308T080000
END:DAYLIGHT
BEGIN:STANDARD
TZOFFSETFROM:-0500
TZOFFSETTO:-0600
TZNAME:CST
DTSTART:20201101T070000
END:STANDARD
BEGIN:DAYLIGHT
TZOFFSETFROM:-0600
TZOFFSETTO:-0500
TZNAME:CDT
DTSTART:20210314T080000
END:DAYLIGHT
BEGIN:STANDARD
TZOFFSETFROM:-0500
TZOFFSETTO:-0600
TZNAME:CST
DTSTART:20211107T070000
END:STANDARD
BEGIN:DAYLIGHT
TZOFFSETFROM:-0600
TZOFFSETTO:-0500
TZNAME:CDT
DTSTART:20220313T080000
END:DAYLIGHT
BEGIN:STANDARD
TZOFFSETFROM:-0500
TZOFFSETTO:-0600
TZNAME:CST
DTSTART:20221106T070000
END:STANDARD
BEGIN:DAYLIGHT
TZOFFSETFROM:-0600
TZOFFSETTO:-0500
TZNAME:CDT
DTSTART:20230312T080000
END:DAYLIGHT
BEGIN:STANDARD
TZOFFSETFROM:-0500
TZOFFSETTO:-0600
TZNAME:CST
DTSTART:20231105T070000
END:STANDARD
BEGIN:DAYLIGHT
TZOFFSETFROM:-0600
TZOFFSETTO:-0500
TZNAME:CDT
DTSTART:20240310T080000
END:DAYLIGHT
BEGIN:STANDARD
TZOFFSETFROM:-0500
TZOFFSETTO:-0600
TZNAME:CST
DTSTART:20241103T070000
END:STANDARD
BEGIN:DAYLIGHT
TZOFFSETFROM:-0600
TZOFFSETTO:-0500
TZNAME:CDT
DTSTART:20250309T080000
END:DAYLIGHT
BEGIN:STANDARD
TZOFFSETFROM:-0500
TZOFFSETTO:-0600
TZNAME:CST
DTSTART:20251102T070000
END:STANDARD
BEGIN:DAYLIGHT
TZOFFSETFROM:-0600
TZOFFSETTO:-0500
TZNAME:CDT
DTSTART:20260308T080000
END:DAYLIGHT
BEGIN:STANDARD
TZOFFSETFROM:-0500
TZOFFSETTO:-0600
TZNAME:CST
DTSTART:20261101T070000
END:STANDARD
END:VTIMEZONE
BEGIN:VEVENT
DTSTART;TZID=America/Chicago:20250810T120000
DTEND;TZID=America/Chicago:20250810T170000
DTSTAMP:20260423T160348
CREATED:20250109T222650Z
LAST-MODIFIED:20250109T222650Z
UID:2257-1754827200-1754845200@www.forgivennow.com
SUMMARY:Women Retreat
DESCRIPTION:Women Retreat \nLumen Christi Center\nSchriever\, LA  \nNoon
URL:https://www.forgivennow.com/event/women-retreat-5/
LOCATION:Lumen Christi Retreat Center\, 100 Lumen Christi Court\, Hwy 311\, Schriever\, LA\, United States
CATEGORIES:Retreat
END:VEVENT
BEGIN:VEVENT
DTSTART;VALUE=DATE:20250606
DTEND;VALUE=DATE:20250609
DTSTAMP:20260423T160348
CREATED:20250310T215507Z
LAST-MODIFIED:20250310T215507Z
UID:2271-1749168000-1749427199@www.forgivennow.com
SUMMARY:Revival Cruise
DESCRIPTION:Power to Exhale Cruise Revival (Bahamas)
URL:https://www.forgivennow.com/event/revival-cruise/
LOCATION:Bahamas
CATEGORIES:Retreat
END:VEVENT
BEGIN:VEVENT
DTSTART;VALUE=DATE:20250402
DTEND;VALUE=DATE:20250406
DTSTAMP:20260423T160348
CREATED:20250310T215012Z
LAST-MODIFIED:20250310T215012Z
UID:2264-1743552000-1743897599@www.forgivennow.com
SUMMARY:Women Retreat
DESCRIPTION:Women Retreat \nDestin\, FL
URL:https://www.forgivennow.com/event/women-retreat-6/
LOCATION:Destin\, FL
CATEGORIES:Retreat
END:VEVENT
BEGIN:VEVENT
DTSTART;VALUE=DATE:20240418
DTEND;VALUE=DATE:20240422
DTSTAMP:20260423T160348
CREATED:20240310T221751Z
LAST-MODIFIED:20240310T221751Z
UID:2154-1713423600-1713682799@www.forgivennow.com
SUMMARY:Sisters by Faith
DESCRIPTION:Household of Faith “Sisters By Faith” retreat
URL:https://www.forgivennow.com/event/sisters-by-faith/
CATEGORIES:Retreat
END:VEVENT
BEGIN:VEVENT
DTSTART;VALUE=DATE:20220504
DTEND;VALUE=DATE:20220508
DTSTAMP:20260423T160348
CREATED:20220304T031349Z
LAST-MODIFIED:20220304T031349Z
UID:2053-1651690800-1651949999@www.forgivennow.com
SUMMARY:SBF Retreat
DESCRIPTION:May 5-7 \nSBF Retreat\nDestin\, FL
URL:https://www.forgivennow.com/event/sbf-retreat/
LOCATION:Destin\, FL
CATEGORIES:Retreat
END:VEVENT
BEGIN:VEVENT
DTSTART;VALUE=DATE:20220428
DTEND;VALUE=DATE:20220501
DTSTAMP:20260423T160348
CREATED:20220304T031258Z
LAST-MODIFIED:20220304T031258Z
UID:2050-1651172400-1651345199@www.forgivennow.com
SUMMARY:Women Retreat
DESCRIPTION:April 29-30 \nWomen Retreat\nWesley Retreat Center\n2350 Methodist Pkwy\nWoodworth\, LA  \n9 am
URL:https://www.forgivennow.com/event/women-retreat-4/
LOCATION:Wesley Retreat Center\, 2350 Methodist Pkwy\, Woodworth\, LA\, United States
CATEGORIES:Retreat
END:VEVENT
BEGIN:VEVENT
DTSTART;TZID=America/Chicago:20211003T040000
DTEND;TZID=America/Chicago:20211003T060000
DTSTAMP:20260423T160348
CREATED:20210430T224108Z
LAST-MODIFIED:20210430T224108Z
UID:1971-1633233600-1633240800@www.forgivennow.com
SUMMARY:Power to Exhale Women's Empowerment Retreat
DESCRIPTION:OCTOBER 3\nPower to Exhale Women’s Empowerment Retreat\nHyatt Regency Superdome\nNew Orleans\, LA\n9 am
URL:https://www.forgivennow.com/event/power-to-exhale-womens-empowerment-retreat/
LOCATION:Hyatt Regency Superdome\, New Orleans\, LA\, United States
CATEGORIES:Retreat
END:VEVENT
BEGIN:VEVENT
DTSTART;VALUE=DATE:20200415
DTEND;VALUE=DATE:20200419
DTSTAMP:20260423T160348
CREATED:20200219T230018Z
LAST-MODIFIED:20200219T230018Z
UID:1885-1586977200-1587236399@www.forgivennow.com
SUMMARY:Sisters By Faith Retreat
DESCRIPTION:Sisters By Faith Retreat\nSan Destin\, FL
URL:https://www.forgivennow.com/event/sisters-by-faith-retreat/
LOCATION:San Destin\, FL
CATEGORIES:Retreat
END:VEVENT
BEGIN:VEVENT
DTSTART;VALUE=DATE:20200414
DTEND;VALUE=DATE:20200419
DTSTAMP:20260423T160348
CREATED:20200103T001500Z
LAST-MODIFIED:20200103T001500Z
UID:1863-1586890800-1587236399@www.forgivennow.com
SUMMARY:Retreat
DESCRIPTION:Household of Faith SBF Retreat\, Destin\, FL
URL:https://www.forgivennow.com/event/retreat-2/
LOCATION:Destin\, FL
CATEGORIES:Retreat
END:VEVENT
BEGIN:VEVENT
DTSTART;VALUE=DATE:20190423
DTEND;VALUE=DATE:20190428
DTSTAMP:20260423T160348
CREATED:20180918T021221Z
LAST-MODIFIED:20180918T021221Z
UID:1646-1556046000-1556391599@www.forgivennow.com
SUMMARY:Women Retreat
DESCRIPTION:Household of Faith Women Retreat\nSan Luis Resort\nGalveston\, TX\nRegister at 504-347-0127
URL:https://www.forgivennow.com/event/women-retreat-3/
LOCATION:San Luis Resort\, Galveston\, TX\, United States
CATEGORIES:Retreat
END:VEVENT
BEGIN:VEVENT
DTSTART;VALUE=DATE:20190404
DTEND;VALUE=DATE:20190412
DTSTAMP:20260423T160348
CREATED:20190110T031812Z
LAST-MODIFIED:20190110T031812Z
UID:1667-1554404400-1555009199@www.forgivennow.com
SUMMARY:School Dedication
DESCRIPTION:School Dedication\nGhana Africa
URL:https://www.forgivennow.com/event/school-dedication/
LOCATION:ghana\, africa\, Ghana
CATEGORIES:Retreat
END:VEVENT
BEGIN:VEVENT
DTSTART;VALUE=DATE:20190207
DTEND;VALUE=DATE:20190217
DTSTAMP:20260423T160348
CREATED:20190110T030806Z
LAST-MODIFIED:20190110T030806Z
UID:1650-1549562400-1550339999@www.forgivennow.com
SUMMARY:Crusade
DESCRIPTION:Feb 8-16\nCrusade\, Ghana\, Africa
URL:https://www.forgivennow.com/event/crusade/
LOCATION:ghana\, africa\, Ghana
CATEGORIES:Retreat
END:VEVENT
BEGIN:VEVENT
DTSTART;VALUE=DATE:20180810
DTEND;VALUE=DATE:20180813
DTSTAMP:20260423T160348
CREATED:20180417T073703Z
LAST-MODIFIED:20180417T073703Z
UID:1587-1533927600-1534100399@www.forgivennow.com
SUMMARY:Women Retreat
DESCRIPTION:Fisher Community Church\nWomen Retreat\, held at Solomon Episcopal Conference Center \n54296 LA-45\, Lorranger\, LA.  \nContact the church for details.
URL:https://www.forgivennow.com/event/women-retreat-2/
CATEGORIES:Retreat
END:VEVENT
BEGIN:VEVENT
DTSTART;VALUE=DATE:20180810
DTEND;VALUE=DATE:20180812
DTSTAMP:20260423T160348
CREATED:20180614T015511Z
LAST-MODIFIED:20180614T015511Z
UID:1611-1533927600-1534013999@www.forgivennow.com
SUMMARY:Women's Retreat
DESCRIPTION:Fisher Community Church Women Retreat\nSolomon Episcopal Center
URL:https://www.forgivennow.com/event/womens-retreat/
LOCATION:fisher community church
CATEGORIES:Retreat
END:VEVENT
BEGIN:VEVENT
DTSTART;TZID=America/Chicago:20180414T140000
DTEND;TZID=America/Chicago:20180414T160000
DTSTAMP:20260423T160348
CREATED:20171216T031700Z
LAST-MODIFIED:20171216T031700Z
UID:1480-1523714400-1523721600@www.forgivennow.com
SUMMARY:Women of Wisdom\, Worship\, & Warfare Retreat
DESCRIPTION:Women of Wisdom\, Worship\, & Warfare Retreat\n2350 Methodist Parkway\nWoodworth\, LA \n7 pm \nContact Elder Lemelle at 225-937-8376 for more info
URL:https://www.forgivennow.com/event/women-of-wisdom-worship-warfare-retreat/
LOCATION:Women of Wisdom\, 2350 Methodist Parkway\, Woodworth\, LA\, United States
CATEGORIES:Retreat
END:VEVENT
BEGIN:VEVENT
DTSTART;TZID=America/Chicago:20180308T130000
DTEND;TZID=America/Chicago:20180308T140000
DTSTAMP:20260423T160348
CREATED:20171216T031514Z
LAST-MODIFIED:20171216T031514Z
UID:1477-1520514000-1520517600@www.forgivennow.com
SUMMARY:Coffee Sisterhood Retreat
DESCRIPTION:Coffee Sisterhood  Retreat \n5500 Saint Mary St\nMetairie\, LA  \n7 pm
URL:https://www.forgivennow.com/event/coffee-sisterhood-retreat/
LOCATION:Retreat\, 5500 Saint Mary St\, Metairie\, LA\, United States
CATEGORIES:Retreat
END:VEVENT
BEGIN:VEVENT
DTSTART;VALUE=DATE:20141106
DTEND;VALUE=DATE:20141111
DTSTAMP:20260423T160348
CREATED:20140830T173539Z
LAST-MODIFIED:20140830T173539Z
UID:618-1415296800-1415642399@www.forgivennow.com
SUMMARY:Private Retreat
DESCRIPTION:Private Retreat\nSpringfield\, OH 
URL:https://www.forgivennow.com/event/private-retreat/
LOCATION:Unnamed Venue\, Springfield\, OH\, United States
CATEGORIES:Retreat
END:VEVENT
BEGIN:VEVENT
DTSTART;TZID=America/Chicago:20140920T110000
DTEND;TZID=America/Chicago:20140922T110000
DTSTAMP:20260423T160348
CREATED:20140406T043815Z
LAST-MODIFIED:20140406T043815Z
UID:584-1411210800-1411383600@www.forgivennow.com
SUMMARY:Women Retreat
DESCRIPTION:Greater Philadelphia BC Women Retreat  facilitated at Lumen Christi Retreat Center\, 100 Lumen Christi Court\, Hwy 311\, Schriever\, LA
URL:https://www.forgivennow.com/event/women-retreat/
LOCATION:Lumen Christi Retreat Center\, 100 Lumen Christi Court\, Hwy 311\, Schriever\, LA\, United States
CATEGORIES:Retreat
END:VEVENT
BEGIN:VEVENT
DTSTART;TZID=America/Chicago:20140905T140000
DTEND;TZID=America/Chicago:20140906T140000
DTSTAMP:20260423T160348
CREATED:20140813T011448Z
LAST-MODIFIED:20140813T011448Z
UID:607-1409925600-1410012000@www.forgivennow.com
SUMMARY:Retreat
DESCRIPTION: Private In-House Retreat  \nHoly Anointed House of Prayer  \n7 pm
URL:https://www.forgivennow.com/event/retreat/
LOCATION:Holy Anointed House of Prayer\, LA\, United States
CATEGORIES:Retreat
END:VEVENT
END:VCALENDAR