BEGIN:VCALENDAR
VERSION:2.0
PRODID:-//Forgiven. The Evangelistic Ministry of Melonie Pichon - ECPv6.15.20//NONSGML v1.0//EN
CALSCALE:GREGORIAN
METHOD:PUBLISH
X-WR-CALNAME:Forgiven. The Evangelistic Ministry of Melonie Pichon
X-ORIGINAL-URL:https://www.forgivennow.com
X-WR-CALDESC:Events for Forgiven. The Evangelistic Ministry of Melonie Pichon
REFRESH-INTERVAL;VALUE=DURATION:PT1H
X-Robots-Tag:noindex
X-PUBLISHED-TTL:PT1H
BEGIN:VTIMEZONE
TZID:America/Chicago
BEGIN:DAYLIGHT
TZOFFSETFROM:-0600
TZOFFSETTO:-0500
TZNAME:CDT
DTSTART:20130310T080000
END:DAYLIGHT
BEGIN:STANDARD
TZOFFSETFROM:-0500
TZOFFSETTO:-0600
TZNAME:CST
DTSTART:20131103T070000
END:STANDARD
BEGIN:DAYLIGHT
TZOFFSETFROM:-0600
TZOFFSETTO:-0500
TZNAME:CDT
DTSTART:20140309T080000
END:DAYLIGHT
BEGIN:STANDARD
TZOFFSETFROM:-0500
TZOFFSETTO:-0600
TZNAME:CST
DTSTART:20141102T070000
END:STANDARD
BEGIN:DAYLIGHT
TZOFFSETFROM:-0600
TZOFFSETTO:-0500
TZNAME:CDT
DTSTART:20150308T080000
END:DAYLIGHT
BEGIN:STANDARD
TZOFFSETFROM:-0500
TZOFFSETTO:-0600
TZNAME:CST
DTSTART:20151101T070000
END:STANDARD
BEGIN:DAYLIGHT
TZOFFSETFROM:-0600
TZOFFSETTO:-0500
TZNAME:CDT
DTSTART:20160313T080000
END:DAYLIGHT
BEGIN:STANDARD
TZOFFSETFROM:-0500
TZOFFSETTO:-0600
TZNAME:CST
DTSTART:20161106T070000
END:STANDARD
BEGIN:DAYLIGHT
TZOFFSETFROM:-0600
TZOFFSETTO:-0500
TZNAME:CDT
DTSTART:20170312T080000
END:DAYLIGHT
BEGIN:STANDARD
TZOFFSETFROM:-0500
TZOFFSETTO:-0600
TZNAME:CST
DTSTART:20171105T070000
END:STANDARD
BEGIN:DAYLIGHT
TZOFFSETFROM:-0600
TZOFFSETTO:-0500
TZNAME:CDT
DTSTART:20180311T080000
END:DAYLIGHT
BEGIN:STANDARD
TZOFFSETFROM:-0500
TZOFFSETTO:-0600
TZNAME:CST
DTSTART:20181104T070000
END:STANDARD
BEGIN:DAYLIGHT
TZOFFSETFROM:-0600
TZOFFSETTO:-0500
TZNAME:CDT
DTSTART:20190310T080000
END:DAYLIGHT
BEGIN:STANDARD
TZOFFSETFROM:-0500
TZOFFSETTO:-0600
TZNAME:CST
DTSTART:20191103T070000
END:STANDARD
BEGIN:DAYLIGHT
TZOFFSETFROM:-0600
TZOFFSETTO:-0500
TZNAME:CDT
DTSTART:20200308T080000
END:DAYLIGHT
BEGIN:STANDARD
TZOFFSETFROM:-0500
TZOFFSETTO:-0600
TZNAME:CST
DTSTART:20201101T070000
END:STANDARD
BEGIN:DAYLIGHT
TZOFFSETFROM:-0600
TZOFFSETTO:-0500
TZNAME:CDT
DTSTART:20210314T080000
END:DAYLIGHT
BEGIN:STANDARD
TZOFFSETFROM:-0500
TZOFFSETTO:-0600
TZNAME:CST
DTSTART:20211107T070000
END:STANDARD
BEGIN:DAYLIGHT
TZOFFSETFROM:-0600
TZOFFSETTO:-0500
TZNAME:CDT
DTSTART:20220313T080000
END:DAYLIGHT
BEGIN:STANDARD
TZOFFSETFROM:-0500
TZOFFSETTO:-0600
TZNAME:CST
DTSTART:20221106T070000
END:STANDARD
BEGIN:DAYLIGHT
TZOFFSETFROM:-0600
TZOFFSETTO:-0500
TZNAME:CDT
DTSTART:20230312T080000
END:DAYLIGHT
BEGIN:STANDARD
TZOFFSETFROM:-0500
TZOFFSETTO:-0600
TZNAME:CST
DTSTART:20231105T070000
END:STANDARD
BEGIN:DAYLIGHT
TZOFFSETFROM:-0600
TZOFFSETTO:-0500
TZNAME:CDT
DTSTART:20240310T080000
END:DAYLIGHT
BEGIN:STANDARD
TZOFFSETFROM:-0500
TZOFFSETTO:-0600
TZNAME:CST
DTSTART:20241103T070000
END:STANDARD
BEGIN:DAYLIGHT
TZOFFSETFROM:-0600
TZOFFSETTO:-0500
TZNAME:CDT
DTSTART:20250309T080000
END:DAYLIGHT
BEGIN:STANDARD
TZOFFSETFROM:-0500
TZOFFSETTO:-0600
TZNAME:CST
DTSTART:20251102T070000
END:STANDARD
BEGIN:DAYLIGHT
TZOFFSETFROM:-0600
TZOFFSETTO:-0500
TZNAME:CDT
DTSTART:20260308T080000
END:DAYLIGHT
BEGIN:STANDARD
TZOFFSETFROM:-0500
TZOFFSETTO:-0600
TZNAME:CST
DTSTART:20261101T070000
END:STANDARD
END:VTIMEZONE
BEGIN:VEVENT
DTSTART;TZID=America/Chicago:20250104T143000
DTEND;TZID=America/Chicago:20250104T170000
DTSTAMP:20260423T173645
CREATED:20250109T222426Z
LAST-MODIFIED:20250109T222426Z
UID:2251-1736001000-1736010000@www.forgivennow.com
SUMMARY:Empower and Educate
DESCRIPTION:Empower and Educate\nThe Jazz & Heritage Center\n1225 N. Rampart St\nNOLA \n2:30 pm
URL:https://www.forgivennow.com/event/empower-and-educate/
LOCATION:the jazz and heritage center\, 1225 N. Rampart St\, New Orleans\, LA\, United States
CATEGORIES:Revival
END:VEVENT
BEGIN:VEVENT
DTSTART;VALUE=DATE:20240718
DTEND;VALUE=DATE:20240721
DTSTAMP:20260423T173645
CREATED:20240504T023120Z
LAST-MODIFIED:20240504T023120Z
UID:2224-1721286000-1721458799@www.forgivennow.com
SUMMARY:Pre-School Teacher Revival
DESCRIPTION: Pre-School Teacher Revival 
URL:https://www.forgivennow.com/event/pre-school-teacher-revival/
LOCATION:LA
CATEGORIES:Revival
END:VEVENT
BEGIN:VEVENT
DTSTART;TZID=America/Chicago:20221021T140000
DTEND;TZID=America/Chicago:20221021T160000
DTSTAMP:20260423T173645
CREATED:20220808T204248Z
LAST-MODIFIED:20220808T204248Z
UID:2095-1666360800-1666368000@www.forgivennow.com
SUMMARY:Revival
DESCRIPTION:Dominion and Power Ministries\n1425 Walker Town Way\nMarrero\, LA  \n7 pm  \nRevival
URL:https://www.forgivennow.com/event/revival-8/
LOCATION:Dominion and Power Ministries\, 1425 Walker Town Way\, Marrero\, LA\, United States
CATEGORIES:Revival
END:VEVENT
BEGIN:VEVENT
DTSTART;TZID=America/Chicago:20220518T140000
DTEND;TZID=America/Chicago:20220518T160000
DTSTAMP:20260423T173645
CREATED:20220505T011342Z
LAST-MODIFIED:20220505T011342Z
UID:2068-1652882400-1652889600@www.forgivennow.com
SUMMARY:Women Revival
DESCRIPTION:Women Revival\nGreater Zionfield FWC\n636 11th Street\nWestwego\, LA  \n7 pm
URL:https://www.forgivennow.com/event/women-revival-4/
LOCATION:Greater Zionfield FWC\, 636 11th Street\, Westwego\, LA\, United States
CATEGORIES:Revival,Women Day
END:VEVENT
BEGIN:VEVENT
DTSTART;TZID=America/Chicago:20191231T153000
DTEND;TZID=America/Chicago:20191231T173000
DTSTAMP:20260423T173645
CREATED:20190329T210918Z
LAST-MODIFIED:20190329T210925Z
UID:1791-1577806200-1577813400@www.forgivennow.com
SUMMARY:New Year's Eve Revival
DESCRIPTION:Seed of Faith Ministries International\nSalem\, OR \nNew Year’s Eve Revival \n9:30 pm
URL:https://www.forgivennow.com/event/new-years-eve-revival/
LOCATION:seed of faith ministries international\, Salem\, OR\, United States
CATEGORIES:Revival
END:VEVENT
BEGIN:VEVENT
DTSTART;TZID=America/Chicago:20191230T130000
DTEND;TZID=America/Chicago:20191230T140000
DTSTAMP:20260423T173645
CREATED:20190329T210809Z
LAST-MODIFIED:20190329T210823Z
UID:1789-1577710800-1577714400@www.forgivennow.com
SUMMARY:Revival
DESCRIPTION:Seed of Faith Ministries International\nSalem\, OR  \nRevival \n7 pm
URL:https://www.forgivennow.com/event/revival-6/
LOCATION:seed of faith ministries international\, Salem\, OR\, United States
CATEGORIES:Revival
END:VEVENT
BEGIN:VEVENT
DTSTART;TZID=America/Chicago:20191206T133000
DTEND;TZID=America/Chicago:20191207T153000
DTSTAMP:20260423T173645
CREATED:20191017T202954Z
LAST-MODIFIED:20191017T202954Z
UID:1826-1575639000-1575732600@www.forgivennow.com
SUMMARY:Revival
DESCRIPTION:December 6-7 \nHurricane MBC\nRevival\nStockton\, CA  \n7:30 pm nightly
URL:https://www.forgivennow.com/event/revival-7/
LOCATION:Hurricane MBC\, Stockton\, CA\, United States
CATEGORIES:Revival
END:VEVENT
BEGIN:VEVENT
DTSTART;TZID=America/Chicago:20191016T140000
DTEND;TZID=America/Chicago:20191017T160000
DTSTAMP:20260423T173645
CREATED:20191017T202631Z
LAST-MODIFIED:20191017T202631Z
UID:1820-1571234400-1571328000@www.forgivennow.com
SUMMARY:Women Revival
DESCRIPTION:October 16-17 \nSt Stephen MBC \nWomen Revival\n1738 L.B. Landry Ave\nNOLA \n7 pm nightly
URL:https://www.forgivennow.com/event/women-revival-3/
LOCATION:St. Stephen MBC\, 1738 LB Landry Ave\, New Orleans\, LA\, United States
CATEGORIES:Revival
END:VEVENT
BEGIN:VEVENT
DTSTART;TZID=America/Chicago:20190607T140000
DTEND;TZID=America/Chicago:20190607T160000
DTSTAMP:20260423T173645
CREATED:20190204T232323Z
LAST-MODIFIED:20190204T232323Z
UID:1748-1559916000-1559923200@www.forgivennow.com
SUMMARY:Revival
DESCRIPTION:Revival \nAnthony Mims’ Music Corner\nFay Spano Building UOP\n3601 Pacific Ave\nStockton\, CA  \n7 pm
URL:https://www.forgivennow.com/event/revival-5/
LOCATION:Anthony Mims Music Corner\, 3601 Pacific Ave\, Stockton\, CA\, United States
CATEGORIES:Revival
END:VEVENT
BEGIN:VEVENT
DTSTART;TZID=America/Chicago:20190303T130000
DTEND;TZID=America/Chicago:20190303T150000
DTSTAMP:20260423T173645
CREATED:20190110T031145Z
LAST-MODIFIED:20190110T031145Z
UID:1656-1551618000-1551625200@www.forgivennow.com
SUMMARY:Women Revival
DESCRIPTION:The Living Faith Christian Center\n13828 NE Sandy Blvd\nPortland\, OR \n 7pm Nightly
URL:https://www.forgivennow.com/event/women-revival-2/
LOCATION:Living Faith Christian Center\, 13828 NE Sandy Blvd\, Portland\, OR\, United States
CATEGORIES:Revival
END:VEVENT
BEGIN:VEVENT
DTSTART;TZID=America/Chicago:20190301T130000
DTEND;TZID=America/Chicago:20190301T150000
DTSTAMP:20260423T173645
CREATED:20190110T031013Z
LAST-MODIFIED:20190110T031013Z
UID:1653-1551445200-1551452400@www.forgivennow.com
SUMMARY:Women Revival
DESCRIPTION:March 1 & 3\nThe Living Faith Christian Center\n13828 NE Sandy Blvd Portland\, OR \n7PM nightly
URL:https://www.forgivennow.com/event/women-revival/
LOCATION:Living Faith Christian Center\, 13828 NE Sandy Blvd\, Portland\, OR\, United States
CATEGORIES:Revival
END:VEVENT
BEGIN:VEVENT
DTSTART;VALUE=DATE:20180517
DTEND;VALUE=DATE:20180521
DTSTAMP:20260423T173645
CREATED:20180417T073244Z
LAST-MODIFIED:20180417T073244Z
UID:1581-1526583600-1526842799@www.forgivennow.com
SUMMARY:Worship
DESCRIPTION:New Alpha Worship Center\n 20295 NW 2nd Ave\nMiami Gardens\, FL  \nPlease contact the church for more information\,  954-918-4747
URL:https://www.forgivennow.com/event/worship/
LOCATION:LA
CATEGORIES:Revival
END:VEVENT
BEGIN:VEVENT
DTSTART;TZID=America/Chicago:20180427T140000
DTEND;TZID=America/Chicago:20180427T160000
DTSTAMP:20260423T173645
CREATED:20180208T221623Z
LAST-MODIFIED:20180208T221623Z
UID:1565-1524837600-1524844800@www.forgivennow.com
SUMMARY:The God of Melonie Pichon Revival
DESCRIPTION:The God of Melonie Pichon Revival\nFellowship of Faith Christian Center\n1806 Marvyn Pkwy\nOpelika\, Alabama\n7 pm
URL:https://www.forgivennow.com/event/the-god-of-melonie-pichon-revival/
LOCATION:fellowship of Faith Christian Center\, 1806 Marvyn Pkwy\, Opelika\, AL\, United States
CATEGORIES:Revival
END:VEVENT
BEGIN:VEVENT
DTSTART;TZID=America/Chicago:20180126T133000
DTEND;TZID=America/Chicago:20180126T150000
DTSTAMP:20260423T173645
CREATED:20180102T003418Z
LAST-MODIFIED:20180102T003418Z
UID:1500-1516973400-1516978800@www.forgivennow.com
SUMMARY:Revival
DESCRIPTION:
URL:https://www.forgivennow.com/event/revival-4/
LOCATION:light city church\, 6117 St Claude Ave\, New Orleans\, LA\, United States
CATEGORIES:Revival
END:VEVENT
BEGIN:VEVENT
DTSTART;TZID=America/Chicago:20150121T010000
DTEND;TZID=America/Chicago:20150123T130000
DTSTAMP:20260423T173645
CREATED:20150104T071139Z
LAST-MODIFIED:20150104T071139Z
UID:644-1421802000-1422018000@www.forgivennow.com
SUMMARY:Church Revival
DESCRIPTION:Church Revival\nSaint Stephen BC\nSt Mary’s Place\n3518 General Meyer\, NOLA\n7pm nightly
URL:https://www.forgivennow.com/event/church-revival/
LOCATION:St. Stephen BC\, 3518 General Meyer\, New Orleans\, LA\, United States
CATEGORIES:Revival
END:VEVENT
BEGIN:VEVENT
DTSTART;TZID=America/Chicago:20140912T140000
DTEND;TZID=America/Chicago:20140912T160000
DTSTAMP:20260423T173645
CREATED:20140830T173231Z
LAST-MODIFIED:20140830T173231Z
UID:614-1410530400-1410537600@www.forgivennow.com
SUMMARY:Revival
DESCRIPTION:Revival\nAbundant Life Evangelistic Center\n172 Rodenburg Ave\nBiloxi\, MS\n7pm
URL:https://www.forgivennow.com/event/revival-3/
LOCATION:Abundant Life Evangelistic Center\, 172 Rodenburg Ave\, Biloxi\, MS\, United States
CATEGORIES:Revival
END:VEVENT
BEGIN:VEVENT
DTSTART;TZID=America/Chicago:20140701T140000
DTEND;TZID=America/Chicago:20140701T160000
DTSTAMP:20260423T173645
CREATED:20140516T023328Z
LAST-MODIFIED:20140516T023328Z
UID:595-1404223200-1404230400@www.forgivennow.com
SUMMARY:Revival
DESCRIPTION:Church of Total Deliverance \n1820 Franklin Ave\nGretna\, LA   \n 7 pm
URL:https://www.forgivennow.com/event/revival-2/
LOCATION:Church of Total Deliverance\, 1820 Franklin Ave\, Gretna\, LA\, United States
CATEGORIES:Revival
END:VEVENT
BEGIN:VEVENT
DTSTART;TZID=America/Chicago:20140530T140000
DTEND;TZID=America/Chicago:20140530T160000
DTSTAMP:20260423T173645
CREATED:20140516T023213Z
LAST-MODIFIED:20140516T023213Z
UID:593-1401458400-1401465600@www.forgivennow.com
SUMMARY:Revival
DESCRIPTION:A More Excellent Way Outreach \n5100 Lapalco\,\nHarvey\, LA   \n 7 pm
URL:https://www.forgivennow.com/event/revival/
LOCATION:A More Excellent Way Outreach\, 5100 Lapalco\, Harvey\, LA\, United States
CATEGORIES:Revival
END:VEVENT
END:VCALENDAR