BEGIN:VCALENDAR
VERSION:2.0
PRODID:-//Forgiven. The Evangelistic Ministry of Melonie Pichon - ECPv6.15.20//NONSGML v1.0//EN
CALSCALE:GREGORIAN
METHOD:PUBLISH
X-WR-CALNAME:Forgiven. The Evangelistic Ministry of Melonie Pichon
X-ORIGINAL-URL:https://www.forgivennow.com
X-WR-CALDESC:Events for Forgiven. The Evangelistic Ministry of Melonie Pichon
REFRESH-INTERVAL;VALUE=DURATION:PT1H
X-Robots-Tag:noindex
X-PUBLISHED-TTL:PT1H
BEGIN:VTIMEZONE
TZID:America/Chicago
BEGIN:DAYLIGHT
TZOFFSETFROM:-0600
TZOFFSETTO:-0500
TZNAME:CDT
DTSTART:20130310T080000
END:DAYLIGHT
BEGIN:STANDARD
TZOFFSETFROM:-0500
TZOFFSETTO:-0600
TZNAME:CST
DTSTART:20131103T070000
END:STANDARD
BEGIN:DAYLIGHT
TZOFFSETFROM:-0600
TZOFFSETTO:-0500
TZNAME:CDT
DTSTART:20140309T080000
END:DAYLIGHT
BEGIN:STANDARD
TZOFFSETFROM:-0500
TZOFFSETTO:-0600
TZNAME:CST
DTSTART:20141102T070000
END:STANDARD
BEGIN:DAYLIGHT
TZOFFSETFROM:-0600
TZOFFSETTO:-0500
TZNAME:CDT
DTSTART:20150308T080000
END:DAYLIGHT
BEGIN:STANDARD
TZOFFSETFROM:-0500
TZOFFSETTO:-0600
TZNAME:CST
DTSTART:20151101T070000
END:STANDARD
BEGIN:DAYLIGHT
TZOFFSETFROM:-0600
TZOFFSETTO:-0500
TZNAME:CDT
DTSTART:20160313T080000
END:DAYLIGHT
BEGIN:STANDARD
TZOFFSETFROM:-0500
TZOFFSETTO:-0600
TZNAME:CST
DTSTART:20161106T070000
END:STANDARD
BEGIN:DAYLIGHT
TZOFFSETFROM:-0600
TZOFFSETTO:-0500
TZNAME:CDT
DTSTART:20170312T080000
END:DAYLIGHT
BEGIN:STANDARD
TZOFFSETFROM:-0500
TZOFFSETTO:-0600
TZNAME:CST
DTSTART:20171105T070000
END:STANDARD
BEGIN:DAYLIGHT
TZOFFSETFROM:-0600
TZOFFSETTO:-0500
TZNAME:CDT
DTSTART:20180311T080000
END:DAYLIGHT
BEGIN:STANDARD
TZOFFSETFROM:-0500
TZOFFSETTO:-0600
TZNAME:CST
DTSTART:20181104T070000
END:STANDARD
BEGIN:DAYLIGHT
TZOFFSETFROM:-0600
TZOFFSETTO:-0500
TZNAME:CDT
DTSTART:20190310T080000
END:DAYLIGHT
BEGIN:STANDARD
TZOFFSETFROM:-0500
TZOFFSETTO:-0600
TZNAME:CST
DTSTART:20191103T070000
END:STANDARD
BEGIN:DAYLIGHT
TZOFFSETFROM:-0600
TZOFFSETTO:-0500
TZNAME:CDT
DTSTART:20200308T080000
END:DAYLIGHT
BEGIN:STANDARD
TZOFFSETFROM:-0500
TZOFFSETTO:-0600
TZNAME:CST
DTSTART:20201101T070000
END:STANDARD
BEGIN:DAYLIGHT
TZOFFSETFROM:-0600
TZOFFSETTO:-0500
TZNAME:CDT
DTSTART:20210314T080000
END:DAYLIGHT
BEGIN:STANDARD
TZOFFSETFROM:-0500
TZOFFSETTO:-0600
TZNAME:CST
DTSTART:20211107T070000
END:STANDARD
BEGIN:DAYLIGHT
TZOFFSETFROM:-0600
TZOFFSETTO:-0500
TZNAME:CDT
DTSTART:20220313T080000
END:DAYLIGHT
BEGIN:STANDARD
TZOFFSETFROM:-0500
TZOFFSETTO:-0600
TZNAME:CST
DTSTART:20221106T070000
END:STANDARD
END:VTIMEZONE
BEGIN:VEVENT
DTSTART;TZID=America/Chicago:20210606T100000
DTEND;TZID=America/Chicago:20210606T120000
DTSTAMP:20260423T170604
CREATED:20210503T214151Z
LAST-MODIFIED:20210503T214151Z
UID:1974-1622973600-1622980800@www.forgivennow.com
SUMMARY:Women Fellowship
DESCRIPTION:June 6\nAnointed Word Ministries\n2701 Manhattan Blvd #12A\nHarvey\, LA 70058\n3 pm\nWomen Fellowship
URL:https://www.forgivennow.com/event/women-fellowship-7/
LOCATION:annointed Word Ministries\, 2701 Manhattan Blvd\, Harvey\, LA\, 70058\, United States
CATEGORIES:Women Fellowship
END:VEVENT
BEGIN:VEVENT
DTSTART;TZID=America/Chicago:20190519T130000
DTEND;TZID=America/Chicago:20190519T143000
DTSTAMP:20260423T170604
CREATED:20190326T010318Z
LAST-MODIFIED:20190326T010318Z
UID:1763-1558270800-1558276200@www.forgivennow.com
SUMMARY:Fellowship
DESCRIPTION:New Life Cathedral Worship Center\n2013 S. Philippe Ave\nGonzales \n6 pm
URL:https://www.forgivennow.com/event/fellowship/
LOCATION:new life cathedral worship center\, 2013 S Philippe Ave\, Gonzales\, LA\, United States
CATEGORIES:Women Fellowship
END:VEVENT
BEGIN:VEVENT
DTSTART;TZID=America/Chicago:20190503T090000
DTEND;TZID=America/Chicago:20190503T120000
DTSTAMP:20260423T170604
CREATED:20190328T213831Z
LAST-MODIFIED:20190328T213831Z
UID:1782-1556874000-1556884800@www.forgivennow.com
SUMMARY:Women Fellowship
DESCRIPTION:Women Fellowship\nTabernacle MBC\n2445 Fourth Stree\nSlidell\, LA  \n2 pm
URL:https://www.forgivennow.com/event/women-fellowship-6/
LOCATION:Tabernacle MBC\, 2445 Fourth St\, Slidell\, LA\, United States
CATEGORIES:Women Fellowship
END:VEVENT
BEGIN:VEVENT
DTSTART;TZID=America/Chicago:20180421T070000
DTEND;TZID=America/Chicago:20180421T100000
DTSTAMP:20260423T170604
CREATED:20180208T222205Z
LAST-MODIFIED:20180208T222205Z
UID:1572-1524294000-1524304800@www.forgivennow.com
SUMMARY:Women Ministry Luncheon
DESCRIPTION:Women Ministry Luncheon\nGreater King David (North Location Auditorium)\n2222 Blunt Road\nBaton Rouge\, LA\n12 noon
URL:https://www.forgivennow.com/event/women-ministry-luncheon/
LOCATION:greather king david\, 2222 Blunt Road\, Baton Rouge\, LA\, United States
CATEGORIES:Women Fellowship
END:VEVENT
BEGIN:VEVENT
DTSTART;TZID=America/Chicago:20180310T060000
DTEND;TZID=America/Chicago:20180310T100000
DTSTAMP:20260423T170604
CREATED:20180208T221340Z
LAST-MODIFIED:20180208T221340Z
UID:1562-1520661600-1520676000@www.forgivennow.com
SUMMARY:Louisiana Fashion Designer Expo
DESCRIPTION:Forgiven & Single Sister Entertainment presents a Louisiana Fashion Designer Expo\nAutocrat Social and Pleasure Club\n1725 St Bernard Ave\nNew Orleans \n12 noon – 4 pm  \n$10.00 admission
URL:https://www.forgivennow.com/event/louisiana-fashion-designer-expo/
LOCATION:autocrat social and pleasure club\, 1725 St Bernard Ave\, New Orleans\, LA\, United States
CATEGORIES:Women Fellowship
END:VEVENT
BEGIN:VEVENT
DTSTART;TZID=America/Chicago:20170917T110000
DTEND;TZID=America/Chicago:20170917T140000
DTSTAMP:20260423T170604
CREATED:20170706T233531Z
LAST-MODIFIED:20170706T233531Z
UID:1431-1505646000-1505656800@www.forgivennow.com
SUMMARY:Ladies in Black & Pearls Fellowship
DESCRIPTION:Ladies in Black & Pearls Fellowship\nGreater Galilee BC\n2013 St Ann Street\nNOLA   \n4 pm
URL:https://www.forgivennow.com/event/ladies-in-black-pearls-fellowship/
LOCATION:Greater Galilee Baptist Church\, 2013 St. Ann St\, New Orleans\, LA\, United States
CATEGORIES:Women Fellowship
END:VEVENT
BEGIN:VEVENT
DTSTART;TZID=America/Chicago:20150821T030000
DTEND;TZID=America/Chicago:20150822T120000
DTSTAMP:20260423T170604
CREATED:20150104T072447Z
LAST-MODIFIED:20150104T072447Z
UID:657-1440126000-1440244800@www.forgivennow.com
SUMMARY:Sister Keepers International
DESCRIPTION:Sister Keepers International\nBaton Rouge\, LA  (Details Pending)
URL:https://www.forgivennow.com/event/sister-keepers-international/
LOCATION:LA
CATEGORIES:Women Fellowship
END:VEVENT
BEGIN:VEVENT
DTSTART;TZID=America/Chicago:20150531T100000
DTEND;TZID=America/Chicago:20150531T120000
DTSTAMP:20260423T170604
CREATED:20150413T200522Z
LAST-MODIFIED:20150413T200522Z
UID:700-1433066400-1433073600@www.forgivennow.com
SUMMARY:Women in Red
DESCRIPTION:First Baptist Church\n14571 Old Spanish Trail\nParadis\, LA\n3 pm
URL:https://www.forgivennow.com/event/women-in-red/
LOCATION:First Baptist Church\, 14571 Old Spanish Trail\, Paradis\, LA\, United States
CATEGORIES:Women Day,Women Fellowship
END:VEVENT
BEGIN:VEVENT
DTSTART;TZID=America/Chicago:20150531T033000
DTEND;TZID=America/Chicago:20150531T120000
DTSTAMP:20260423T170604
CREATED:20150413T200800Z
LAST-MODIFIED:20150413T200800Z
UID:704-1433043000-1433073600@www.forgivennow.com
SUMMARY:Women in White
DESCRIPTION:New Zion Ministry\n5186 Lucille Dr\nCrown Point\, LA\n8:30 am
URL:https://www.forgivennow.com/event/women-in-white/
LOCATION:New Zion Ministry\, 5186 Lucille Dr\, Crown Point\, LA\, United States
CATEGORIES:Women Day,Women Fellowship
END:VEVENT
BEGIN:VEVENT
DTSTART;TZID=America/Chicago:20150317T140000
DTEND;TZID=America/Chicago:20150317T160000
DTSTAMP:20260423T170604
CREATED:20150224T222706Z
LAST-MODIFIED:20150224T222706Z
UID:676-1426600800-1426608000@www.forgivennow.com
SUMMARY:Sisters by Faith Women Celebration
DESCRIPTION:Sisters by Faith Women Celebration\nHousehold of Faith Family Worship Church\n2074 Paxton\nHarvey\, LA.\n7pm
URL:https://www.forgivennow.com/event/sisters-by-faith-women-celebration/
LOCATION:Household of Faith Family Worship Church\, 2074 Paxton\, Harvey\, LA\, United States
CATEGORIES:Women Fellowship
END:VEVENT
BEGIN:VEVENT
DTSTART;TZID=America/Chicago:20140914T020000
DTEND;TZID=America/Chicago:20140914T120000
DTSTAMP:20260423T170604
CREATED:20140406T043614Z
LAST-MODIFIED:20140406T043614Z
UID:582-1410660000-1410696000@www.forgivennow.com
SUMMARY:Women Day
DESCRIPTION:St Stephen BC Women Day 3518 Gen. Meyer\, NOLA  7 am
URL:https://www.forgivennow.com/event/women-day-2/
LOCATION:St. Stephen BC\, 3518 General Meyer\, New Orleans\, LA\, United States
CATEGORIES:Conference,Women Fellowship
END:VEVENT
BEGIN:VEVENT
DTSTART;TZID=America/Chicago:20140824T060000
DTEND;TZID=America/Chicago:20140824T100000
DTSTAMP:20260423T170604
CREATED:20140717T210306Z
LAST-MODIFIED:20140717T210306Z
UID:600-1408860000-1408874400@www.forgivennow.com
SUMMARY:Women Day
DESCRIPTION:Little Zion BC\n441 Wilson Rd\nMarrero\, LA   \n11 am  
URL:https://www.forgivennow.com/event/women-day-3/
LOCATION:Little Zion Baptist Church\, 441 Wilson Rd\, Marrero\, LA\, United States
CATEGORIES:Women Fellowship
END:VEVENT
BEGIN:VEVENT
DTSTART;TZID=America/Chicago:20140824T040000
DTEND;TZID=America/Chicago:20140824T070000
DTSTAMP:20260423T170604
CREATED:20140721T165001Z
LAST-MODIFIED:20140721T165001Z
UID:602-1408852800-1408863600@www.forgivennow.com
SUMMARY:Women Day
DESCRIPTION:Changing A Generation\n2731 Manhattan Blvd Suite A-9\nHarvey\,LA.  \n9 am
URL:https://www.forgivennow.com/event/women-day-4/
LOCATION:Changing a Generation\, 2731 Manhattan Blvd\, Harvey\, LA\, United States
CATEGORIES:Women Fellowship
END:VEVENT
BEGIN:VEVENT
DTSTART;TZID=America/Chicago:20140803T100000
DTEND;TZID=America/Chicago:20140803T120000
DTSTAMP:20260423T170604
CREATED:20140128T032206Z
LAST-MODIFIED:20140128T032206Z
UID:556-1407060000-1407067200@www.forgivennow.com
SUMMARY:Women Fellowship
DESCRIPTION:Body of Christ Fellowship\, 7314 Ivy St\, Metairie\, LA  Women Fellowship   3 pm
URL:https://www.forgivennow.com/event/women-fellowship-5/
LOCATION:Body of Christ Fellowship\, 7314 Ivy St\, Metairie\, LA\, United States
CATEGORIES:Women Fellowship
END:VEVENT
BEGIN:VEVENT
DTSTART;TZID=America/Chicago:20140727T040000
DTEND;TZID=America/Chicago:20140727T070000
DTSTAMP:20260423T170604
CREATED:20140128T032037Z
LAST-MODIFIED:20140128T032037Z
UID:553-1406433600-1406444400@www.forgivennow.com
SUMMARY:Women Fellowship
DESCRIPTION:St John BC\, 8940 Panola St\, New Orleans\, LA  Women Fellowship  9 am
URL:https://www.forgivennow.com/event/women-fellowship-4/
LOCATION:St John BC\, 8940 Panola St\, New Orleans\, LA\, United States
CATEGORIES:Women Fellowship
END:VEVENT
BEGIN:VEVENT
DTSTART;TZID=America/Chicago:20140712T040000
DTEND;TZID=America/Chicago:20140712T070000
DTSTAMP:20260423T170604
CREATED:20140506T201403Z
LAST-MODIFIED:20140506T201403Z
UID:590-1405137600-1405148400@www.forgivennow.com
SUMMARY:
DESCRIPTION:True Vine BC  \n2008 Marigny St\,  \nNOLA  \n9 am
URL:https://www.forgivennow.com/event/590/
LOCATION:True Vine BC\, 2008 Marigny St\, new orleans\, LA\, United States
CATEGORIES:Conference,Women Fellowship
END:VEVENT
BEGIN:VEVENT
DTSTART;TZID=America/Chicago:20140531T090000
DTEND;TZID=America/Chicago:20140531T110000
DTSTAMP:20260423T170604
CREATED:20140128T031745Z
LAST-MODIFIED:20140128T031745Z
UID:549-1401526800-1401534000@www.forgivennow.com
SUMMARY:Women Fellowship
DESCRIPTION:Guiding Light MBC\, 2012 Washington Ave\, New Orleans\, LA  Women Fellowship\, 2 pm
URL:https://www.forgivennow.com/event/women-fellowship-3/
LOCATION:Guiding Light MBC\, 2012 Washington Ave\, New Orleans\, LA\, United States
CATEGORIES:Women Fellowship
END:VEVENT
BEGIN:VEVENT
DTSTART;TZID=America/Chicago:20140510T053000
DTEND;TZID=America/Chicago:20140510T070000
DTSTAMP:20260423T170604
CREATED:20140406T043202Z
LAST-MODIFIED:20140406T043403Z
UID:576-1399699800-1399705200@www.forgivennow.com
SUMMARY:Mother's Day Fellowship
DESCRIPTION:Lion of Judah Ministries\, 2884 St Anthony St\, NOLA  Mother’s Day Fellowship 10:30
URL:https://www.forgivennow.com/event/mothers-day-fellowship/
LOCATION:Lion of Judah Ministries\, 2884 St Anthony St\, New Orleans\, LA\, United States
CATEGORIES:Women Fellowship
END:VEVENT
BEGIN:VEVENT
DTSTART;TZID=America/Chicago:20140509T140000
DTEND;TZID=America/Chicago:20140509T160000
DTSTAMP:20260423T170604
CREATED:20140506T201225Z
LAST-MODIFIED:20140506T201225Z
UID:588-1399644000-1399651200@www.forgivennow.com
SUMMARY:Wonen Fellowship
DESCRIPTION: Greater St Stephen FGBC  \n5600 Read Blvd\, NOLA  \n7 pm  
URL:https://www.forgivennow.com/event/wonen-fellowship/
LOCATION:Greater St Stephen FGBC\, 5600 Read Blvd\, New Orleans\, United States
CATEGORIES:Women Fellowship
END:VEVENT
BEGIN:VEVENT
DTSTART;TZID=America/Chicago:20140417T140000
DTEND;TZID=America/Chicago:20140417T170000
DTSTAMP:20260423T170604
CREATED:20140406T043045Z
LAST-MODIFIED:20140406T043103Z
UID:574-1397743200-1397754000@www.forgivennow.com
SUMMARY:Women Conference
DESCRIPTION:My Redeemer BC\, 2829 Washington Ave\, NOLA Women Conference  7 pm
URL:https://www.forgivennow.com/event/women-conference-4/
LOCATION:My Redeemer BC\, 2829 Washington Ave\, New Orleans\, LA\, United States
CATEGORIES:Conference,Women Fellowship
END:VEVENT
BEGIN:VEVENT
DTSTART;TZID=America/Chicago:20140413T040000
DTEND;TZID=America/Chicago:20140413T060000
DTSTAMP:20260423T170604
CREATED:20140128T031348Z
LAST-MODIFIED:20140128T031348Z
UID:542-1397361600-1397368800@www.forgivennow.com
SUMMARY:Women Day
DESCRIPTION:Household of Faith family Worship Church Women Day 2074 Paxton St\, Harvey\, LA  9am
URL:https://www.forgivennow.com/event/women-day/
LOCATION:Household of Faith\, 2074 Paxton St\, Harvey\, LA\, United States
CATEGORIES:Women Fellowship
END:VEVENT
BEGIN:VEVENT
DTSTART;TZID=America/Chicago:20140308T040000
DTEND;TZID=America/Chicago:20140308T050000
DTSTAMP:20260423T170604
CREATED:20140128T031009Z
LAST-MODIFIED:20140128T031009Z
UID:537-1394251200-1394254800@www.forgivennow.com
SUMMARY:Women Fellowship
DESCRIPTION:First Pilgrims BC 1228 Arts St\, New Orleans\, LA  Women Fellowship  10 am
URL:https://www.forgivennow.com/event/women-fellowship-2/
LOCATION:First Pilgrims Baptist Church\, 1228 Arts St\, New Orleans\, LA\, United States
CATEGORIES:Women Fellowship
END:VEVENT
BEGIN:VEVENT
DTSTART;TZID=America/Chicago:20140126T113000
DTEND;TZID=America/Chicago:20140126T150000
DTSTAMP:20260423T170604
CREATED:20140104T023208Z
LAST-MODIFIED:20140104T023208Z
UID:32-1390735800-1390748400@www.forgivennow.com
SUMMARY:Women Celebration
DESCRIPTION:Abundant Life Progressive Fellowship District Department of Women\nHost Church Open Door Fellowship Church / 4439 Choctaw Drive / Baton Rouge\, LA / 5:30 pm
URL:https://www.forgivennow.com/event/women-celebration/
LOCATION:Open Door Fellowship Church\, 4439 Choctaw Drive\, Baton Rouge\, LA\, United States
CATEGORIES:Women Fellowship
END:VEVENT
BEGIN:VEVENT
DTSTART;TZID=America/Chicago:20140119T090000
DTEND;TZID=America/Chicago:20140119T110000
DTSTAMP:20260423T170604
CREATED:20140104T020933Z
LAST-MODIFIED:20140104T021019Z
UID:21-1390122000-1390129200@www.forgivennow.com
SUMMARY:Women Fellowship
DESCRIPTION:
URL:https://www.forgivennow.com/event/women-fellowship/
LOCATION:St John Baptist Church\, 8540 Panola St\, New Orleans\, LA\, United States
CATEGORIES:Women Fellowship
END:VEVENT
END:VCALENDAR